BEGIN:VCALENDAR
VERSION:2.0
PRODID:-//ChamberMaster//Event Calendar 2.0//EN
METHOD:PUBLISH
X-PUBLISHED-TTL:P3D
REFRESH-INTERVAL:P3D
CALSCALE:GREGORIAN
BEGIN:VEVENT
DTSTART:20250504T190000Z
DTEND:20250504T220000Z
X-MICROSOFT-CDO-ALLDAYEVENT:FALSE
SUMMARY:Annual Meeting
DESCRIPTION:Join us for the annual meeting to kick off the 2025 season of kayaking and to celebrate 25 years of the Paddle Pushers group!\n\n	This will be hosted at Mark and Becky Stadems home.\n	We will have a gear swap prior to the meeting and dinner.Feel free to bring items to the gear swap.\n	For dinner we will do a potluck\, please bring a dish to share and your beverage of choice.\n\n\n\n2:00 - Gear Swap / Socialize\n\n3:30 - Potluck and Meeting\n\n\n\nLOCATION\n\nView map and route directions from your location
X-ALT-DESC;FMTTYPE=text/html:<span style="font-size:14px\;">Join us for the annual meeting to kick off the 2025 season of kayaking and to celebrate 25 years of the Paddle Pushers group!</span>\n<ul>\n	<li><span style="font-size:14px\;">This will be hosted at Mark and Becky Stadems home.</span></li>\n	<li><span style="font-size:14px\;">We will have a gear swap prior to the meeting and dinner.Feel free to bring items to the gear swap.</span></li>\n	<li><span style="font-size:14px\;">For dinner we will do a potluck\, please bring a dish to share and your beverage of choice.</span></li>\n</ul>\n<br />\n<span style="font-size:14px\;">2:00 - Gear Swap / Socialize</span><br />\n<span style="font-size:14px\;">3:30 - Potluck and Meeting</span><br />\n<br />\n<span style="color: rgb(47\, 79\, 79)\;"><span style="font-size: 18px\;"><span style="font-family: arial\;"><strong>LOCATION</strong></span></span></span><br />\n<span style="font-family: arial\;"><span style="font-size: 16px\;"><u><span style="box-sizing: content-box\; font-weight: bolder\; inset: auto\; clear: none\; content: normal\; direction: inherit\; empty-cells: show\; font-variant-numeric: inherit\; font-variant-east-asian: inherit\; font-stretch: inherit\; line-height: inherit\; margin: 0px\; max-height: none\; max-width: none\; min-height: initial\; min-width: initial\; opacity: 1\; outline-offset: 0px\; overflow: visible\; padding: 0px\; position: static\; resize: none\; table-layout: auto\; text-overflow: clip\; vertical-align: baseline\; visibility: inherit\; word-break: inherit\; overflow-wrap: inherit\; z-index: auto\; background-image: none\; background-position: initial\; background-size: initial\; background-repeat: initial\; background-attachment: initial\; background-origin: initial\; background-clip: initial\; border: none\; border-collapse: separate\; border-radius: 0px\; height: auto\; width: auto\; box-shadow: none\;"><a href="https://goo.gl/maps/1a666iZcAYdfUP879" style="color: rgb(34\, 72\, 132)\; box-sizing: content-box\; background: none\; text-decoration-line: none\; inset: auto\; clear: none\; content: normal\; direction: inherit\; display: inline\; empty-cells: show\; font: inherit\; letter-spacing: inherit\; margin: 0px\; max-height: none\; max-width: none\; min-height: initial\; min-width: initial\; opacity: 1\; outline-offset: 0px\; overflow: visible\; padding: 0px\; position: static\; resize: none\; table-layout: auto\; text-align: inherit\; text-indent: inherit\; text-overflow: clip\; text-transform: inherit\; vertical-align: baseline\; visibility: inherit\; white-space: inherit\; word-break: inherit\; word-spacing: inherit\; overflow-wrap: break-word\; z-index: auto\; border: none\; border-collapse: separate\; border-radius: 0px\; height: auto\; width: auto\; box-shadow: none\;" target="_blank"><span style="color: rgb(0\, 128\, 0)\;">View map and route directions from your location</span></a></span></u></span></span>
LOCATION:
UID:e.9367.393
SEQUENCE:3
DTSTAMP:20260419T200401Z
URL:https://www.paddlepushers.com/events/details/annual-meeting-393
END:VEVENT

END:VCALENDAR
