BEGIN:VCALENDAR
VERSION:2.0
PRODID:-//ChamberMaster//Event Calendar 2.0//EN
METHOD:PUBLISH
X-PUBLISHED-TTL:P3D
REFRESH-INTERVAL:P3D
CALSCALE:GREGORIAN
BEGIN:VEVENT
DTSTART;VALUE=DATE:20220721
DTEND;VALUE=DATE:20220725
TRANSP:TRANSPARENT
X-MICROSOFT-CDO-ALLDAYEVENT:TRUE
SUMMARY:Apostle Islands - Little Sand Bay
DESCRIPTION:Location\n\nView map and route directions from your location\n\n\n\nCost\n\n$55\n\n\n\nSite Details\n\nWe have 5 sites reserved. We have a different section this year. We will be at sites 29\, 30\, 31\, 32\, 34\, 35. These are smaller sites so small tents are recommended and two of the sties are tents only. Our trailer limit is 4 with a total registrant limit of 14.\n\n\n\nSo that we can keep a count of units\, please mark if coming with trailer\, tent or shared space (tent/trailer) when registering. \n\n\n\nApostle Islands - Little Sand Bay\n\nThis is our annual trip to the Apostle Islands and it's beautiful Sea Caves.
X-ALT-DESC;FMTTYPE=text/html:<span style="font-family:arial\;"><span style="font-size:14px\;"><strong><span style="font-size:18px\;">Location</span><br />\n<a href="https://goo.gl/maps/KgaEwvsyVT42" target="_blank"><span style="color: rgb(0\, 0\, 128)\;">View map and route directions from your location</span></a></strong><br />\n<br />\n<span style="box-sizing: content-box\; font-weight: bolder\; inset: auto\; clear: none\; color: rgb(68\, 68\, 68)\; content: normal\; direction: inherit\; empty-cells: show\; font-variant-numeric: inherit\; font-variant-east-asian: inherit\; font-stretch: inherit\; line-height: inherit\; margin: 0px\; max-height: none\; max-width: none\; min-height: initial\; min-width: initial\; opacity: 1\; outline-offset: 0px\; overflow: visible\; padding: 0px\; position: static\; resize: none\; table-layout: auto\; text-overflow: clip\; vertical-align: baseline\; visibility: inherit\; word-break: inherit\; overflow-wrap: inherit\; z-index: auto\; background-image: none\; background-position: initial\; background-size: initial\; background-repeat: initial\; background-attachment: initial\; background-origin: initial\; background-clip: initial\; border: none\; border-collapse: separate\; border-radius: 0px\; height: auto\; width: auto\; box-shadow: none\;"><span style="font-size:18px\;">Cost</span></span><br />\n<font color="#444444">$55</font><br />\n<br />\n<b><span style="font-size:18px\;">Site Details</span></b><br />\nWe have 5 sites reserved. We have a different section this year. We will be at sites&nbsp\;</span></span><span style="background-color: rgba(0\, 0\, 0\, 0)\;">29\, 30\, 31\, 32\, 34\, 35.</span><span style="font-family:arial\;"><span style="font-size:14px\;">&nbsp\;These are smaller sites so small tents are recommended and two of the sties are tents only. Our trailer limit is 4 with a total registrant limit of 14.</span></span><br />\n<br />\n<span style="font-family:arial\;"><span style="font-size:14px\;">So that we can keep a count of units\, please mark if coming with trailer\, tent or shared space (tent/trailer) when registering.&nbsp\;<br />\n<br />\n<span style="font-size:18px\;"><strong>Apostle Islands - Little Sand Bay</strong></span><br />\nThis is our annual trip to the Apostle Islands and it&#39\;s beautiful Sea Caves.&nbsp\;</span></span><br />\n&nbsp\;
LOCATION:
UID:e.9367.292
SEQUENCE:3
DTSTAMP:20260423T213014Z
URL:https://www.paddlepushers.com/events/details/apostle-islands-little-sand-bay-292
END:VEVENT

END:VCALENDAR
