BEGIN:VCALENDAR
VERSION:2.0
PRODID:-//ChamberMaster//Event Calendar 2.0//EN
METHOD:PUBLISH
X-PUBLISHED-TTL:P3D
REFRESH-INTERVAL:P3D
CALSCALE:GREGORIAN
BEGIN:VEVENT
DTSTART;VALUE=DATE:20250717
DTEND;VALUE=DATE:20250721
TRANSP:TRANSPARENT
X-MICROSOFT-CDO-ALLDAYEVENT:TRUE
SUMMARY:Apostle Islands - Little Sand Bay
DESCRIPTION:This is our annual trip to the Apostle Islands and it's beautiful Sea Caves. \n\n\n\nLocation\n\nView map and route directions from your location\n\n\n\nCost\n\n$70\n\n\n\nRegistration Details\n\n	Each attendee needs to pay the fee\, even if not kayaking\n	Choosing a reservation type allows us to track who needs a spot for their tent or trailer (one per registration)\n	Anyone who is staying in someone else's tent or trailer will select Additional Attendee reservation type\n	If you have a tent or trailer and that reservation type is no longer selectable then those sites are sold out\n\nSite Details\n\n\n	We have sites 5\, 6\, 20\, 22\, 23\, 29\n	We require all sites to have a minimum of 2 people per site to pay for the trip\n	Each site can have 1 trailer or 1 tent\n	Max of 6 trailers (Sold Out)\n	Max of 6 tents
X-ALT-DESC;FMTTYPE=text/html:<span style="font-family: arial\; font-size: 14px\;">This is our annual trip to the Apostle Islands and it&#39\;s beautiful Sea Caves.&nbsp\;</span><br />\n<br />\n<span style="font-family:arial\;"><span style="font-size:14px\;"><strong><span style="font-size:18px\;">Location</span><br />\n<a href="https://maps.app.goo.gl/VZ6LdCvHzzgdGMvY7" target="_blank"><span style="color: rgb(0\, 0\, 128)\;">View map and route directions from your location</span></a></strong><br />\n<br />\n<span style="box-sizing: content-box\; font-weight: bolder\; inset: auto\; clear: none\; color: rgb(68\, 68\, 68)\; content: normal\; direction: inherit\; empty-cells: show\; font-variant-numeric: inherit\; font-variant-east-asian: inherit\; font-stretch: inherit\; line-height: inherit\; margin: 0px\; max-height: none\; max-width: none\; min-height: initial\; min-width: initial\; opacity: 1\; outline-offset: 0px\; overflow: visible\; padding: 0px\; position: static\; resize: none\; table-layout: auto\; text-overflow: clip\; vertical-align: baseline\; visibility: inherit\; word-break: inherit\; overflow-wrap: inherit\; z-index: auto\; background-image: none\; background-position: initial\; background-size: initial\; background-repeat: initial\; background-attachment: initial\; background-origin: initial\; background-clip: initial\; border: none\; border-collapse: separate\; border-radius: 0px\; height: auto\; width: auto\; box-shadow: none\;"><span style="font-size:18px\;">Cost</span></span><br />\n<font color="#444444">$70</font><br />\n<br />\n<span style="font-size:18px\;"><strong>Registration Details</strong></span></span></span>\n<ul>\n	<li style="box-sizing: border-box\; margin: 0px\;"><span style="box-sizing: border-box\; font-family: arial\;">Each attendee needs to pay the fee\, even if not kayaking</span></li>\n	<li style="box-sizing: border-box\; margin: 0px\;"><span style="box-sizing: border-box\; font-family: arial\;">Choosing a reservation type allows us to track who needs a spot for their&nbsp\;tent or trailer (one per registration)</span></li>\n	<li style="box-sizing: border-box\; margin: 0px\;"><span style="box-sizing: border-box\; font-family: arial\;">Anyone who is staying in someone else&#39\;s tent or trailer will select Additional Attendee reservation type</span></li>\n	<li style="box-sizing: border-box\; margin: 0px\;"><span style="box-sizing: border-box\; font-family: arial\;">If you have a tent or trailer and that reservation type is no longer selectable&nbsp\;then those sites are sold out</span></li>\n</ul>\n<span style="font-family:arial\;"><span style="font-size:14px\;"><span style="font-size:18px\;"><strong>Site Details</strong></span></span></span>\n\n<ul>\n	<li><span style="background-color: rgba(0\, 0\, 0\, 0)\; margin: 0px\;">We have sites 5\, 6\, 20\, 22\, 23\, 29</span></li>\n	<li><span style="background-color: rgba(0\, 0\, 0\, 0)\; margin: 0px\;">We require all sites to have a minimum of 2 people per site to pay for the trip</span></li>\n	<li><span style="font-family:arial\;"><span style="font-size:14px\;">Each site can have 1 trailer or 1 tent</span></span></li>\n	<li><span style="font-family:arial\;"><span style="font-size:14px\;"><span style="font-family:arial\;"><span style="font-size:14px\;">Max of 6&nbsp\;trailers <strong><span style="color:#B22222\;">(Sold Out)</span></strong></span></span></span></span></li>\n	<li><span style="font-family:arial\;"><span style="font-size:14px\;"><span style="font-family:arial\;"><span style="font-size:14px\;">Max of 6&nbsp\;tents</span></span></span></span></li>\n</ul>\n<br />\n&nbsp\;
LOCATION:
UID:e.9367.389
SEQUENCE:3
DTSTAMP:20260419T165600Z
URL:https://www.paddlepushers.com/events/details/apostle-islands-little-sand-bay-389
END:VEVENT

END:VCALENDAR
