BEGIN:VCALENDAR
VERSION:2.0
PRODID:-//ChamberMaster//Event Calendar 2.0//EN
METHOD:PUBLISH
X-PUBLISHED-TTL:P3D
REFRESH-INTERVAL:P3D
CALSCALE:GREGORIAN
BEGIN:VEVENT
DTSTART:20210923T220000Z
DTEND:20210924T013000Z
X-MICROSOFT-CDO-ALLDAYEVENT:FALSE
SUMMARY:Bay Lake - Wood-fired Pizza w/Paddle Folk
DESCRIPTION:SOCIAL PADDLE\n\nThis will be another social paddle with the Paddle Folk kayak club. We'll be joining them for their Wood-fired Pizza paddle at Bay Lake. To help them out with knowing a count for the pizza you will need to register for this event before Tuesday 9/21 at noon.\n\n\n\nMake sure to bring a bring a headlamp or have a light mounted on your kayak since it will be dark when paddling back from the island.\n\n\n\nThis paddle costs $12 which goes to support the Bay Lake Camp plus a small tip. Extra tipping is always welcome as well! This is BYOB for beverages and alcoholic beverages are fine to bring.\n\n\n\nLOCATION  \n\nSince there will be a larger group and launching with 30+ paddlers there will be two launch times.\n\n\n\n5pm - Launch and a longer paddle around Malkerson Island\n\n\n\n6pm - Launch with 1/2 hour paddle straight over to the island\n\n\n\nView map and route directions from your location
X-ALT-DESC;FMTTYPE=text/html:<font face="arial"><span style="font-size: 18px\;"><b>SOCIAL PADDLE</b></span></font><br />\n<span style="font-family:arial\;"><span style="font-size:14px\;">This will be another social paddle with the Paddle Folk kayak club. We&#39\;ll be joining them for their Wood-fired Pizza paddle at Bay Lake. To help them out with knowing a count for the pizza you will need to<span style="color:#FF0000\;"> </span><span style="color:#B22222\;">register for this event before Tuesday 9/21 at noon.</span><br />\n<br />\nMake sure to bring a br<span style="background-color: rgba(0\, 0\, 0\, 0)\;">ing a headlamp or have a light mounted on your&nbsp\;</span><span style="background-color: rgba(0\, 0\, 0\, 0)\;">kayak since it will be dark when paddling back from the island.</span></span></span><br />\n<br />\n<span style="font-size:14px\;"><span style="font-family:arial\;"><span style="color:#B22222\;">This paddle costs $12</span> which goes to support the Bay Lake Camp plus a small tip. Extra tipping is always welcome as well! This is BYOB for beverages and&nbsp\;<span style="background-color: rgba(0\, 0\, 0\, 0)\;">alcoholic beverages are fine to bring.</span></span></span><br />\n<br />\n<strong><span style="font-size:18px\;"><span style="font-family:arial\;">LOCATION&nbsp\;&nbsp\;</span></span></strong><br />\n<span style="font-family: arial\; font-size: 14px\;">Since there will be a larger group and launching with 30+ paddlers there will be two launch times.</span><br style="font-family: arial\; font-size: 14px\;" />\n<br />\n<strong style="font-family: arial\; font-size: 14px\;">5pm - Launch and a longer paddle around Malkerson Island</strong><br />\n<br style="font-family: arial\; font-size: 14px\;" />\n<strong style="font-family: arial\; font-size: 14px\;">6pm - Launch with 1/2 hour paddle straight over to the island</strong><br />\n<br />\n<strong><u><span style="font-size:14px\;"><span style="font-family:arial\;"><a href="https://goo.gl/maps/8rbhUeiBRQL2" target="_blank"><span style="color:#0000FF\;">View map and route directions from your location</span></a></span></span></u></strong><br />\n&nbsp\;
LOCATION:
UID:e.9367.268
SEQUENCE:3
DTSTAMP:20260424T191109Z
URL:https://www.paddlepushers.com/events/details/bay-lake-wood-fired-pizza-w-paddle-folk-268
END:VEVENT

END:VCALENDAR
