BEGIN:VCALENDAR
VERSION:2.0
PRODID:-//ChamberMaster//Event Calendar 2.0//EN
METHOD:PUBLISH
X-PUBLISHED-TTL:P3D
REFRESH-INTERVAL:P3D
CALSCALE:GREGORIAN
BEGIN:VEVENT
DTSTART;VALUE=DATE:20240620
DTEND;VALUE=DATE:20240624
TRANSP:TRANSPARENT
X-MICROSOFT-CDO-ALLDAYEVENT:TRUE
SUMMARY:Big Sandy Lake
DESCRIPTION:This trip has been cancelled due to poor weather forecast\n\n\n\nLocation\n\nView map and route directions from your location\n\n\n\nCost\n\n$45 per person\n\n\n\nRegistration Details\n\n	Each attendee needs to pay the fee\, even if not kayaking\n	Choosing a reservation type allows us to track who needs a spot for their tent or trailer (one per registration)\n	Anyone who is staying in someone else's tent or trailer will select Additional Attendee reservation type\n	If you have a tent or trailer and that reservation type is no longer selectable then those sites are sold out\n\nSite Details\n\n\n	We have sites 15\, 16\, 17\, 18 and 19 reserved\n	Each site can have 2 trailers and 2 tents or 4 tents with no trailers\n	Trailer sites are 50amp electric\, no water hookup\n\nArea Activities\n\n\n	Paddling on the Mississippi and Big Sandy\n	Road and gravel biking\n	Golfing \n	Exploring Savanna Portage State Park (fee) with gravel bikes or hiking
X-ALT-DESC;FMTTYPE=text/html:<span style="font-family:arial\;"><span style="font-size:14px\;"><strong><span style="font-weight: 700\;"><span style="font-size: 18px\;"><font color="#ff0000">This trip has been cancelled due to poor weather forecast</font><br />\n<br />\n<font color="#444444">Location</font></span></span><br />\n<a href="https://maps.app.goo.gl/nbh5k2fbBfNbHRck6" style="color: rgb(34\, 72\, 132)\; font: inherit\; letter-spacing: inherit\; text-align: inherit\; text-indent: inherit\; text-transform: inherit\; white-space: inherit\; word-spacing: inherit\; background: none\; box-sizing: content-box\; text-decoration-line: none\; bottom: auto\; clear: none\; content: normal\; direction: inherit\; display: inline\; empty-cells: show\; float: none\; left: auto\; margin: 0px\; max-height: none\; max-width: none\; min-height: initial\; min-width: initial\; opacity: 1\; outline-offset: 0px\; overflow: visible\; padding: 0px\; position: static\; resize: none\; right: auto\; table-layout: auto\; text-overflow: clip\; top: auto\; vertical-align: baseline\; visibility: inherit\; word-break: inherit\; overflow-wrap: break-word\; z-index: auto\; border: none\; border-collapse: separate\; border-radius: 0px\; height: auto\; width: auto\; box-shadow: none\;" target="_blank"><span style="color:#000080\;">View map and route directions from your location</span></a></strong><br />\n<br />\n<span style="font-size:18px\;"><strong>Cost</strong></span><br />\n$45 per person<br />\n<br />\n<strong><span style="font-size:18px\;">Registration Details</span></strong></span></span>\n<ul>\n	<li><span style="font-family:arial\;"><span style="font-size:14px\;">Each attendee needs to pay the fee\, even if not kayaking</span></span></li>\n	<li style="box-sizing: border-box\; margin: 0px\;"><span style="font-size:14px\;"><span style="box-sizing: border-box\; font-family: arial\;">Choosing a reservation type allows us to track who needs a spot for their&nbsp\;tent or trailer (one per registration)</span></span></li>\n	<li><span style="font-family:arial\;"><span style="font-size:14px\;">Anyone who is staying in someone else&#39\;s tent or trailer will select Additional Attendee reservation type</span></span></li>\n	<li style="box-sizing: border-box\; margin: 0px\;"><span style="font-size:14px\;"><span style="box-sizing: border-box\; font-family: arial\;">If you have a tent or trailer and that reservation type is no longer selectable&nbsp\;then those sites are sold out</span></span></li>\n</ul>\n<span style="font-family:arial\;"><span style="font-size:14px\;"><b><span style="font-size:18px\;">Site Details</span></b></span></span>\n\n<ul>\n	<li><span style="font-size:14px\;"><span style="font-family:arial\;">We have sites 15\, 16\, 17\, 18 and 19 reserved</span></span></li>\n	<li><span style="font-size:14px\;"><span style="font-family:arial\;">Each site can have 2 trailers and 2 tents <strong>or </strong>4 tents with no trailers</span></span></li>\n	<li><span style="font-size:14px\;"><span style="font-family:arial\;">Trailer sites are&nbsp\;50amp electric\, no water hookup</span></span></li>\n</ul>\n<span style="font-family:arial\;"><span style="font-size:14px\;"><span style="font-size:18px\;"><strong><span style="color: rgb(68\, 68\, 68)\;">Area Activities</span></strong></span></span></span>\n\n<ul>\n	<li><span style="font-size:14px\;"><span style="font-family:arial\;"><span style="background-color: rgba(0\, 0\, 0\, 0)\;">Paddling on the Mississippi and Big Sandy</span></span></span></li>\n	<li><span style="font-family: arial\; font-size: 14px\; background-color: rgba(0\, 0\, 0\, 0)\;">Road and gravel biking</span></li>\n	<li><span style="font-family: arial\; font-size: 14px\; background-color: rgba(0\, 0\, 0\, 0)\;">Golfing&nbsp\;</span></li>\n	<li><span style="font-family: arial\; font-size: 14px\; background-color: rgba(0\, 0\, 0\, 0)\;">Exploring Savanna Portage State Park (fee)&nbsp\;with gravel bikes or hiking</span></li>\n</ul>\n
LOCATION:
UID:e.9367.361
SEQUENCE:3
DTSTAMP:20260422T081048Z
URL:https://www.paddlepushers.com/events/details/big-sandy-lake-361
END:VEVENT

END:VCALENDAR
