BEGIN:VCALENDAR
VERSION:2.0
PRODID:-//ChamberMaster//Event Calendar 2.0//EN
METHOD:PUBLISH
X-PUBLISHED-TTL:P3D
REFRESH-INTERVAL:P3D
CALSCALE:GREGORIAN
BEGIN:VEVENT
DTSTART:20220712T230000Z
DTEND:20220713T020000Z
X-MICROSOFT-CDO-ALLDAYEVENT:FALSE
SUMMARY:Birch Lake
DESCRIPTION:Weekly Tuesday Paddle\n\n\n\nLOCATION\n\nView map and route directions from your location
X-ALT-DESC;FMTTYPE=text/html:<br />\n<span style="font-size: 18px\;"><span style="font-family: arial\;"><strong>Weekly Tuesday Paddle</strong></span></span><br />\n<br />\n<strong><span style="font-size: 18px\;"><span style="font-family: arial\;">LOCATION</span></span><br />\n<span style="font-size: 16px\;"><u><span style="font-family: arial\;"><a href="https://goo.gl/maps/An2X6Rr35CjYxmnRA" target="_blank"><span style="color: rgb(0\, 128\, 0)\;">View map and route directions from your location</span></a></span></u></span></strong><br />\n<br />\n<br />\n&nbsp\;
LOCATION:
UID:e.9367.278
SEQUENCE:3
DTSTAMP:20260423T212958Z
URL:https://www.paddlepushers.com/events/details/birch-lake-07-12-2022-278
END:VEVENT

END:VCALENDAR
