BEGIN:VCALENDAR
VERSION:2.0
PRODID:-//ChamberMaster//Event Calendar 2.0//EN
METHOD:PUBLISH
X-PUBLISHED-TTL:P3D
REFRESH-INTERVAL:P3D
CALSCALE:GREGORIAN
BEGIN:VEVENT
DTSTART;VALUE=DATE:20230810
DTEND;VALUE=DATE:20230814
TRANSP:TRANSPARENT
X-MICROSOFT-CDO-ALLDAYEVENT:TRUE
SUMMARY:Cass Lake - Norway Beach
DESCRIPTION:Location\n\nView map and route directions from your location\n\n\n\nCost\n\n$20 per person\n\n\n\nSite Details\n\nWe have 6 sites reserved in Wanaki Loop. Site numbers for our reservation are 144\, 145\, 146\, 147\, 148 and 150. The campground has beaches and mature pines. It has flush toilets and hot showers. Our sites are non-electric but the bathrooms do have electricity. We can have one trailer/camper per site plus tents. Each site can have one trailer so the trip limit is 6 trailers (NOTE: Trailer sites are now all fully taken/reserved). A boat ramp and dock are available. Ice and firewood are not sold in the park but can be picked up in town or at the nearby resort. Firewood should always be purchased locally.
X-ALT-DESC;FMTTYPE=text/html:<strong style="font-family: arial\; font-size: 14px\;"><span style="color: rgb(68\, 68\, 68)\;"><span style="font-size: 18px\;">Location</span></span></strong><br />\n<span style="font-size:14px\;"><strong><a href="https://goo.gl/maps/ZmTKJwaYcJaR6P9u9" target="_blank"><span style="color:#000080\;">View map and route directions from your location</span></a></strong></span><br />\n<br />\n<strong style="font-family: arial\; font-size: 18px\;">Cost</strong><br />\n<span style="font-size:14px\;">$20 per person</span><br />\n<br />\n<b style="font-family: arial\; font-size: 14px\;"><span style="font-size: 18px\;">Site Details</span></b><br />\n<span style="font-size:14px\;">We have 6 sites reserved&nbsp\;in Wanaki Loop. Site numbers for our reservation are 144\, 145\, 146\, 147\, 148 and 150. The campground has beaches and mature pines. It has flush toilets and hot showers. Our sites are non-electric but the bathrooms do have electricity. We can have one trailer/camper per site plus tents. Each site can have one trailer so the trip limit is 6 trailers </span><span style="color: rgb(255\, 0\, 0)\; font-family: arial\; font-size: 14px\;">(NOTE: Trailer sites are now all fully taken/reserved)</span><span style="font-size:14px\;">.&nbsp\;A boat ramp and dock are available. Ice and firewood are not sold in the park but can be picked up in town or at the nearby resort. Firewood should always be purchased locally.</span><br />\n&nbsp\;
LOCATION:
UID:e.9367.319
SEQUENCE:3
DTSTAMP:20260423T012637Z
URL:https://www.paddlepushers.com/events/details/cass-lake-norway-beach-08-10-2023-319
END:VEVENT

END:VCALENDAR
