BEGIN:VCALENDAR
VERSION:2.0
PRODID:-//ChamberMaster//Event Calendar 2.0//EN
METHOD:PUBLISH
X-PUBLISHED-TTL:P3D
REFRESH-INTERVAL:P3D
CALSCALE:GREGORIAN
BEGIN:VEVENT
DTSTART;VALUE=DATE:20250814
DTEND;VALUE=DATE:20250818
TRANSP:TRANSPARENT
X-MICROSOFT-CDO-ALLDAYEVENT:TRUE
SUMMARY:Cass Lake - Norway Beach
DESCRIPTION:Location\n\nView map and route directions from your location\n\n\n\nCost\n\n$20\n\n\n\nRegistration Details\n\n	Each attendee needs to pay the fee\, even if not kayaking\n	Choosing a reservation type allows us to track who needs a spot for their tent or trailer (one per registration)\n	Anyone who is staying in someone else's tent or trailer will select Additional Attendee reservation type\n	If you have a tent or trailer and that reservation type is no longer selectable then those sites are sold out\n\nSite Details\n\n\n	We have 6 sites reserved in Wanaki Loop. \n	Each site can have 1 trailer with tents\n	Max of 6 trailers (Sold Out) \n	Max of 6 tents
X-ALT-DESC;FMTTYPE=text/html:<strong style="font-family: arial\; font-size: 14px\;"><span style="color: rgb(68\, 68\, 68)\;"><span style="font-size: 18px\;">Location</span></span></strong><br />\n<span style="font-size:14px\;"><strong><a href="https://goo.gl/maps/ZmTKJwaYcJaR6P9u9" target="_blank"><span style="color:#000080\;">View map and route directions from your location</span></a></strong></span><br />\n<br />\n<strong style="font-family: arial\; font-size: 18px\;">Cost</strong><br />\n<span style="font-size: 14px\;">$20</span><br />\n<br />\n<span style="font-family: arial\;"><span style="font-size: 14px\;"><span style="font-size: 18px\;"><strong>Registration Details</strong></span></span></span>\n<ul>\n	<li style="box-sizing: border-box\; margin: 0px\;"><span style="box-sizing: border-box\; font-family: arial\;">Each attendee needs to pay the fee\, even if not kayaking</span></li>\n	<li style="box-sizing: border-box\; margin: 0px\;"><span style="box-sizing: border-box\; font-family: arial\;">Choosing a reservation type allows us to track who needs a spot for their&nbsp\;tent or trailer (one per registration)</span></li>\n	<li style="box-sizing: border-box\; margin: 0px\;"><span style="box-sizing: border-box\; font-family: arial\;">Anyone who is staying in someone else&#39\;s tent or trailer will select Additional Attendee reservation type</span></li>\n	<li style="box-sizing: border-box\; margin: 0px\;"><span style="box-sizing: border-box\; font-family: arial\;">If you have a tent or trailer and that reservation type is no longer selectable&nbsp\;then those sites are sold out</span></li>\n</ul>\n<b style="font-family: arial\; font-size: 14px\;"><span style="font-size: 18px\;">Site Details</span></b>\n\n<ul>\n	<li><span style="font-size:14px\;">We have 6 sites reserved&nbsp\;in Wanaki Loop.&nbsp\;</span></li>\n	<li><span style="font-family: arial\;"><span style="font-size: 14px\;">Each site can have 1 trailer with tents</span></span></li>\n	<li><span style="font-family: arial\;"><span style="font-size: 14px\;">Max of 6&nbsp\;trailers <strong><span style="color:#B22222\;">(Sold Out)</span> </strong></span></span></li>\n	<li><span style="font-family: arial\;"><span style="font-size: 14px\;">Max of 6&nbsp\;tents</span></span></li>\n</ul>\n
LOCATION:
UID:e.9367.414
SEQUENCE:3
DTSTAMP:20260419T121618Z
URL:https://www.paddlepushers.com/events/details/cass-lake-norway-beach-414
END:VEVENT

END:VCALENDAR
