BEGIN:VCALENDAR
VERSION:2.0
PRODID:-//ChamberMaster//Event Calendar 2.0//EN
METHOD:PUBLISH
X-PUBLISHED-TTL:P3D
REFRESH-INTERVAL:P3D
CALSCALE:GREGORIAN
BEGIN:VEVENT
DTSTART:20230919T230000Z
DTEND:20230920T020000Z
X-MICROSOFT-CDO-ALLDAYEVENT:FALSE
SUMMARY:Clark Lake
DESCRIPTION:Weekly Tuesday Paddle\n\n\n\nLOCATION\n\nView map and route directions from your location
X-ALT-DESC;FMTTYPE=text/html:<br />\n<span style="font-family: Roboto\, sans-serif\; font-size: 18px\;"><span style="font-family: arial\;"><strong>Weekly Tuesday Paddle</strong></span></span><br style="font-family: Roboto\, sans-serif\;" />\n<br style="font-family: Roboto\, sans-serif\;" />\n<strong style="font-family: Roboto\, sans-serif\;"><span style="font-size: 18px\;"><span style="font-family: arial\;">LOCATION</span></span><br />\n<span style="font-size: 16px\;"><u><span style="font-family: arial\;"><a href="https://goo.gl/maps/p4jEq8Ki3Fk6sKqr5" style="color: rgb(100\, 50\, 130)\;" target="_blank"><span style="color: rgb(0\, 128\, 0)\;">View map and route directions from your location</span></a></span></u></span></strong>
LOCATION:
UID:e.9367.340
SEQUENCE:3
DTSTAMP:20260422T233541Z
URL:https://www.paddlepushers.com/events/details/clark-lake-340
END:VEVENT

END:VCALENDAR
