BEGIN:VCALENDAR
VERSION:2.0
PRODID:-//ChamberMaster//Event Calendar 2.0//EN
METHOD:PUBLISH
X-PUBLISHED-TTL:P3D
REFRESH-INTERVAL:P3D
CALSCALE:GREGORIAN
BEGIN:VEVENT
DTSTART:20260804T230000Z
DTEND:20260805T020000Z
X-MICROSOFT-CDO-ALLDAYEVENT:FALSE
SUMMARY:Clearwater Lake
DESCRIPTION:Weekly Tuesday Paddle\n\n\n\nLOCATION\n\nView map and route directions from your location
X-ALT-DESC;FMTTYPE=text/html:<br />\n<strong style="font-family: arial\; font-size: 18px\;">Weekly Tuesday Paddle</strong><br />\n<br />\n<strong style="font-family: Roboto\, sans-serif\;"><span style="font-size: 18px\;"><span style="font-family: arial\;">LOCATION</span></span></strong><br />\n<u><strong><a href="https://goo.gl/maps/7KZFSsvuVo52" target="_blank"><span style="color:#000080\;">View map and route directions from your location</span></a></strong></u>
LOCATION:
UID:e.9367.433
SEQUENCE:3
DTSTAMP:20260419T120911Z
URL:https://www.paddlepushers.com/events/details/clearwater-lake-433
END:VEVENT

END:VCALENDAR
