BEGIN:VCALENDAR
VERSION:2.0
PRODID:-//ChamberMaster//Event Calendar 2.0//EN
METHOD:PUBLISH
X-PUBLISHED-TTL:P3D
REFRESH-INTERVAL:P3D
CALSCALE:GREGORIAN
BEGIN:VEVENT
DTSTART:20250902T230000Z
DTEND:20250903T020000Z
X-MICROSOFT-CDO-ALLDAYEVENT:FALSE
SUMMARY:Crooked Lake
DESCRIPTION:Weekly Tuesday Paddle\n\n\n\n\n\nLOCATION  \n\nView map and route directions from your location
X-ALT-DESC;FMTTYPE=text/html:<br />\n<span style="font-size:18px\;"><span style="font-family:arial\;"><strong>Weekly Tuesday Paddle</strong></span></span><br />\n<br />\n<br />\n<strong><span style="font-size:18px\;"><span style="font-family:arial\;">LOCATION&nbsp\;&nbsp\;</span></span><br />\n<span style="font-size:16px\;"><u><span style="font-family:arial\;"><a href="https://goo.gl/maps/ihJntmcea2zc6mMq5" target="_blank"><span style="color:#008000\;">View map and route directions from your location</span></a></span></u></span></strong><br />\n&nbsp\;
LOCATION:
UID:e.9367.409
SEQUENCE:3
DTSTAMP:20260419T134652Z
URL:https://www.paddlepushers.com/events/details/crooked-lake-409
END:VEVENT

END:VCALENDAR
