BEGIN:VCALENDAR
VERSION:2.0
PRODID:-//ChamberMaster//Event Calendar 2.0//EN
METHOD:PUBLISH
X-PUBLISHED-TTL:P3D
REFRESH-INTERVAL:P3D
CALSCALE:GREGORIAN
BEGIN:VEVENT
DTSTART:20250826T230000Z
DTEND:20250827T020000Z
X-MICROSOFT-CDO-ALLDAYEVENT:FALSE
SUMMARY:Crow Wing River
DESCRIPTION:Weekly Tuesday Paddle\n\nWe will launch at the junction of the Gull and Crow Wing rivers\, fisherman's bridge.\n\n\n\nLOCATION\n\nView map and route directions from your location
X-ALT-DESC;FMTTYPE=text/html:<p style="margin:0in\;font-family:Calibri\;font-size:11.0pt\;color:#333333"><br />\n<strong><span style="font-size:18px\;"><span style="font-family:arial\;">Weekly Tuesday Paddle</span></span></strong></p>\n\n<p style="margin:0in\;font-family:Calibri\;font-size:11.0pt"><span style="font-size:18px\;"><span style="font-family:arial\;"><span style="font-size:14px\;">We will launch at the junction of the Gull and Crow Wing rivers\,&nbsp\;fisherman&#39\;s bridge.</span></span></span></p>\n\n<p style="margin:0in\;font-family:Calibri\;font-size:11.0pt\;color:#333333"><br />\n<span style="font-size:18px\;"><span style="font-family:arial\;"><span style="font-weight:bold"><strong>LOCATION</strong></span></span></span></p>\n\n<p style="margin:0in\;font-family:Calibri\;font-size:11.0pt"><span style="font-size:14px\;"><span style="font-family:arial\;"><u><strong><span style="color:#000080\;"><span style="font-weight:bold"><a href="https://goo.gl/maps/MKVWUGb8ECA2" target="_blank">View map and route directions from your location</a></span></span></strong></u></span></span></p>\n
LOCATION:
UID:e.9367.408
SEQUENCE:3
DTSTAMP:20260419T134609Z
URL:https://www.paddlepushers.com/events/details/crow-wing-river-408
END:VEVENT

END:VCALENDAR
