BEGIN:VCALENDAR
VERSION:2.0
PRODID:-//ChamberMaster//Event Calendar 2.0//EN
METHOD:PUBLISH
X-PUBLISHED-TTL:P3D
REFRESH-INTERVAL:P3D
CALSCALE:GREGORIAN
BEGIN:VEVENT
DTSTART:20250701T230000Z
DTEND:20250702T020000Z
X-MICROSOFT-CDO-ALLDAYEVENT:FALSE
SUMMARY:Farm Island Lake
DESCRIPTION:Weekly Tuesday Paddle\n\n\n\nLOCATION:  North Public Access\n\nView map and route directions from your location
X-ALT-DESC;FMTTYPE=text/html:Weekly Tuesday Paddle<br />\n<br />\n<strong>LOCATION:&nbsp\; North Public Access<br />\n<a href="https://goo.gl/maps/Khi51SiVsgPHvDkb9" target="_blank">View map and route directions from your location</a></strong><br />\n<br />\n&nbsp\;
LOCATION:
UID:e.9367.401
SEQUENCE:3
DTSTAMP:20260419T165253Z
URL:https://www.paddlepushers.com/events/details/farm-island-lake-401
END:VEVENT

END:VCALENDAR
