BEGIN:VCALENDAR
VERSION:2.0
PRODID:-//ChamberMaster//Event Calendar 2.0//EN
METHOD:PUBLISH
X-PUBLISHED-TTL:P3D
REFRESH-INTERVAL:P3D
CALSCALE:GREGORIAN
BEGIN:VEVENT
DTSTART:20260901T230000Z
DTEND:20260902T020000Z
X-MICROSOFT-CDO-ALLDAYEVENT:FALSE
SUMMARY:French Rapids
DESCRIPTION:Weekly Tuesday Paddle\n\nAs usual for French Rapids we will end the night with a pot luck so bring your favorite dish and beverage. We can do a small fire as well if someone wants to bring some firewood.\n\n \n\nLOCATION\n\nView map and route directions from your location
X-ALT-DESC;FMTTYPE=text/html:<p style="margin:0in\;font-family:Calibri\;font-size:11.0pt\;color:#333333"><br />\n<strong><span style="font-size:18px\;"><span style="font-family:arial\;">Weekly Tuesday Paddle</span></span></strong></p>\n\n<p style="margin:0in\;font-family:Calibri\;font-size:11.0pt"><span style="font-size:14px\;"><span style="font-family:arial\;">As usual for French Rapids we will end the night with a pot luck so bring your favorite dish and beverage. We can do a small fire as well if someone wants to bring some firewood.</span></span><br />\n&nbsp\;</p>\n\n<p style="margin:0in\;font-family:Calibri\;font-size:11.0pt\;color:#333333"><span style="font-size:18px\;"><span style="font-family:arial\;"><span style="font-weight:bold">LOCATION</span></span></span></p>\n\n<p style="margin:0in\;font-family:Calibri\;font-size:11.0pt"><span style="font-size:16px\;"><span style="font-family:arial\;"><u><strong><a href="https://goo.gl/maps/otD6quoEVtH2" target="_blank"><span style="color:#008000\;"><span style="font-weight:bold">View map and route directions from your location</span></span></a></strong></u></span></span><br />\n&nbsp\;</p>\n
LOCATION:
UID:e.9367.437
SEQUENCE:3
DTSTAMP:20260419T202602Z
URL:https://www.paddlepushers.com/events/details/french-rapids-437
END:VEVENT

END:VCALENDAR
