BEGIN:VCALENDAR
VERSION:2.0
PRODID:-//ChamberMaster//Event Calendar 2.0//EN
METHOD:PUBLISH
X-PUBLISHED-TTL:P3D
REFRESH-INTERVAL:P3D
CALSCALE:GREGORIAN
BEGIN:VEVENT
DTSTART:20260929T230000Z
DTEND:20260930T020000Z
X-MICROSOFT-CDO-ALLDAYEVENT:FALSE
SUMMARY:Gilbert Lake
DESCRIPTION:Weekly Tuesday Paddle\n\n\n\n\n\nLOCATION\n\nView map and route directions from your location
X-ALT-DESC;FMTTYPE=text/html:<br />\n<span style="font-size: 18px\;"><span style="font-family: arial\;"><strong>Weekly Tuesday Paddle</strong></span></span><br />\n<br />\n<br />\n<strong><span style="font-size: 18px\;"><span style="font-family: arial\;">LOCATION</span></span><br />\n<span style="font-family:arial\;"><u><span style="font-size:16px\;"><a href="https://goo.gl/maps/jvFgGmCmf352" target="_blank"><span style="color:#008000\;">View map and route directions from your location</span></a></span></u></span></strong><br />\n<br />\n&nbsp\;
LOCATION:
UID:e.9367.442
SEQUENCE:3
DTSTAMP:20260419T202554Z
URL:https://www.paddlepushers.com/events/details/gilbert-lake-442
END:VEVENT

END:VCALENDAR
