BEGIN:VCALENDAR
VERSION:2.0
PRODID:-//ChamberMaster//Event Calendar 2.0//EN
METHOD:PUBLISH
X-PUBLISHED-TTL:P3D
REFRESH-INTERVAL:P3D
CALSCALE:GREGORIAN
BEGIN:VEVENT
DTSTART;VALUE=DATE:20240807
DTEND;VALUE=DATE:20240812
TRANSP:TRANSPARENT
X-MICROSOFT-CDO-ALLDAYEVENT:TRUE
SUMMARY:Grand Marais
DESCRIPTION:Location\n\nView map and route directions from your location\n\n\n\nCost\n\n$36 per person\n\n\n\nRegistration Details\n\n	Each attendee needs to pay the fee\, even if not kayaking\n	Choosing a reservation type allows us to track who needs a spot for their tent or trailer (one per registration)\n	Anyone who is staying in someone else's tent or trailer will select Additional Attendee reservation type\n\nSite Details\n\n\n	We have group site 2\n	Plenty of space for tents and teardrops\n	Plenty of space for trailers but there is no electricity or water hook-up\n\n\n\nArea Activities\n\n\n	Paddling Lake Superior\n	Walking around town\n	Hiking\n	Biking
X-ALT-DESC;FMTTYPE=text/html:<span style="font-family:arial\;"><span style="font-size:14px\;"><strong><span style="color: rgb(68\, 68\, 68)\; font-weight: 700\;"><span style="font-size:18px\;">Location</span></span><br />\n<a href="https://maps.app.goo.gl/3kRZg32VEegvVJdq5" style="color: rgb(34\, 72\, 132)\; font: inherit\; letter-spacing: inherit\; text-align: inherit\; text-indent: inherit\; text-transform: inherit\; white-space: inherit\; word-spacing: inherit\; background: none\; box-sizing: content-box\; text-decoration-line: none\; bottom: auto\; clear: none\; content: normal\; direction: inherit\; display: inline\; empty-cells: show\; float: none\; left: auto\; margin: 0px\; max-height: none\; max-width: none\; min-height: initial\; min-width: initial\; opacity: 1\; outline-offset: 0px\; overflow: visible\; padding: 0px\; position: static\; resize: none\; right: auto\; table-layout: auto\; text-overflow: clip\; top: auto\; vertical-align: baseline\; visibility: inherit\; word-break: inherit\; overflow-wrap: break-word\; z-index: auto\; border: none\; border-collapse: separate\; border-radius: 0px\; height: auto\; width: auto\; box-shadow: none\;" target="_blank"><span style="color:#000080\;">View map and route directions from your location</span></a></strong><br />\n<br />\n<span style="font-size:18px\;"><strong>Cost</strong></span><br />\n$36 per person<br />\n<br />\n<b><span style="font-size:18px\;">Registration Details</span></b></span></span>\n<ul style="box-sizing: border-box\; margin-top: 0px\; margin-bottom: 1rem\; outline: 0px\; color: rgb(51\, 62\, 39)\; font-family: Arial\, Helvetica\, sans-serif\; font-size: 14px\;">\n	<li style="box-sizing: border-box\; margin: 0px\;"><span style="font-size:14px\;"><span style="box-sizing: border-box\; font-family: arial\;">Each attendee needs to pay the fee\, even if not kayaking</span></span></li>\n	<li style="box-sizing: border-box\; margin: 0px\;"><span style="font-size:14px\;"><span style="box-sizing: border-box\; font-family: arial\;">Choosing a reservation type allows us to track who needs a spot for their&nbsp\;tent or trailer (one per registration)</span></span></li>\n	<li style="box-sizing: border-box\; margin: 0px\;"><span style="font-size:14px\;"><span style="box-sizing: border-box\; font-family: arial\;">Anyone who is staying in someone else&#39\;s tent or trailer will select Additional Attendee reservation type</span></span></li>\n</ul>\n<span style="font-family:arial\;"><span style="font-size:14px\;"><b><span style="font-size:18px\;">Site Details</span></b></span></span>\n\n<ul style="box-sizing: border-box\; margin-top: 0px\; margin-bottom: 1rem\; outline: 0px\; color: rgb(51\, 62\, 39)\; font-size: 14px\;">\n	<li style="font-family: Arial\, Helvetica\, sans-serif\; box-sizing: border-box\; margin: 0px\;"><span style="box-sizing: border-box\; font-family: arial\;">We have group site 2</span></li>\n	<li style="box-sizing: border-box\; margin: 0px\;"><font face="arial">Plenty of space for tents and teardrops</font></li>\n	<li style="box-sizing: border-box\; margin: 0px\;">Plenty of space for trailers but there is no electricity or water hook-up</li>\n</ul>\n<br />\n<span style="font-family:arial\;"><span style="font-size:14px\;"><span style="font-size:18px\;"><strong><span style="color: rgb(68\, 68\, 68)\;">Area Activities</span></strong></span></span></span>\n\n<ul>\n	<li><span style="font-family:arial\;"><span style="font-size:14px\;"><span style="font-size:18px\;"><span style="color: rgb(68\, 68\, 68)\;"><span style="font-size:14px\;">Paddling Lake Superior</span></span></span></span></span></li>\n	<li>Walking around town</li>\n	<li>Hiking</li>\n	<li>Biking</li>\n</ul>\n<br style="box-sizing: content-box\; bottom: auto\; clear: none\; color: rgb(68\, 68\, 68)\; content: normal\; direction: inherit\; display: inline\; empty-cells: show\; float: none\; font-variant-numeric: inherit\; font-variant-east-asian: inherit\; font-stretch: inherit\; font-size: 14px\; font-family: Arial\, Helvetica\, sans-serif\; left: auto\; line-height: inherit\; margin: 0px\; max-height: none\; max-width: none\; min-height: initial\; min-width: initial\; opacity: 1\; outline-offset: 0px\; overflow: visible\; padding: 0px\; position: static\; resize: none\; right: auto\; table-layout: auto\; text-overflow: clip\; top: auto\; vertical-align: baseline\; visibility: inherit\; word-break: inherit\; overflow-wrap: inherit\; z-index: auto\; background-image: none\; background-position: initial\; background-size: initial\; background-repeat: initial\; background-attachment: initial\; background-origin: initial\; background-clip: initial\; border: none\; border-collapse: separate\; border-radius: 0px\; height: auto\; width: auto\;" />\n&nbsp\;
LOCATION:
UID:e.9367.363
SEQUENCE:3
DTSTAMP:20260422T064034Z
URL:https://www.paddlepushers.com/events/details/grand-marais-363
END:VEVENT

END:VCALENDAR
