BEGIN:VCALENDAR
VERSION:2.0
PRODID:-//ChamberMaster//Event Calendar 2.0//EN
METHOD:PUBLISH
X-PUBLISHED-TTL:P3D
REFRESH-INTERVAL:P3D
CALSCALE:GREGORIAN
BEGIN:VEVENT
DTSTART:20220906T230000Z
DTEND:20220907T013000Z
X-MICROSOFT-CDO-ALLDAYEVENT:FALSE
SUMMARY:Gull Lake - Hole-In-Day
DESCRIPTION:Weekly Tuesday Paddle\n\nWe'll launch from our usual Wednesday skills night location and paddle hole-in-the-day bay.\n\n\n\nLOCATION  \n\nView map and route directions from your location
X-ALT-DESC;FMTTYPE=text/html:<br />\n<span style="font-size: 18px\;"><span style="font-family: arial\;"><strong>Weekly Tuesday Paddle</strong></span></span><br />\n<span style="font-size:14px\;">We&#39\;ll launch from our usual Wednesday skills night location and paddle hole-in-the-day bay.</span><br />\n<br />\n<strong><span style="font-size: 18px\;"><span style="font-family: arial\;">LOCATION&nbsp\;&nbsp\;</span></span></strong><br />\n<u><span style="font-size:16px\;"><span style="font-family:arial\;"><strong><a href="https://goo.gl/maps/fjv4DLuFomB2" target="_blank"><span style="color:#008000\;">View map and route directions from your location</span></a></strong></span></span></u>
LOCATION:
UID:e.9367.286
SEQUENCE:3
DTSTAMP:20260423T195706Z
URL:https://www.paddlepushers.com/events/details/gull-lake-hole-in-day-286
END:VEVENT

END:VCALENDAR
