BEGIN:VCALENDAR
VERSION:2.0
PRODID:-//ChamberMaster//Event Calendar 2.0//EN
METHOD:PUBLISH
X-PUBLISHED-TTL:P3D
REFRESH-INTERVAL:P3D
CALSCALE:GREGORIAN
BEGIN:VEVENT
DTSTART:20250909T230000Z
DTEND:20250910T020000Z
X-MICROSOFT-CDO-ALLDAYEVENT:FALSE
SUMMARY:Gull Lake Narrows
DESCRIPTION:Weekly Tuesday Paddle\n\n\n\nLOCATION\n\nView map and route directions from your location
X-ALT-DESC;FMTTYPE=text/html:<span style="font-size:18px\;"><span style="font-family:arial\;"><strong>&#8203\;<br />\nWeekly Tuesday Paddle</strong><br />\n<br />\n<strong>LOCATION<br />\n<span style="font-size:14px\;"><a href="https://goo.gl/maps/AsS2GVWVRL82" target="_blank"><span style="color:#000080\;"><u>View map and route directions from your location</u></span></a></span></strong></span></span><br />\n<br />\n&nbsp\;
LOCATION:
UID:e.9367.410
SEQUENCE:3
DTSTAMP:20260419T151618Z
URL:https://www.paddlepushers.com/events/details/gull-lake-narrows-410
END:VEVENT

END:VCALENDAR
