BEGIN:VCALENDAR
VERSION:2.0
PRODID:-//ChamberMaster//Event Calendar 2.0//EN
METHOD:PUBLISH
X-PUBLISHED-TTL:P3D
REFRESH-INTERVAL:P3D
CALSCALE:GREGORIAN
BEGIN:VEVENT
DTSTART:20250916T230000Z
DTEND:20250917T020000Z
X-MICROSOFT-CDO-ALLDAYEVENT:FALSE
SUMMARY:Horseshoe Lake
DESCRIPTION:Weekly Tuesday Paddle\n\n\n\nLOCATION\n\nView map and route directions from your location
X-ALT-DESC;FMTTYPE=text/html:<span style="font-size:18px\;"><span style="font-family:arial\;"><strong>&#8203\;<br />\nWeekly Tuesday Paddle</strong><br />\n<br />\n<strong>LOCATION<br />\n<u><span style="font-size:14px\;"><a href="https://goo.gl/maps/cQFD73XjYoD2" target="_blank">View map and route directions from your location</a></span></u></strong></span></span><br />\n&nbsp\;
LOCATION:
UID:e.9367.411
SEQUENCE:3
DTSTAMP:20260419T134733Z
URL:https://www.paddlepushers.com/events/details/horseshoe-lake-411
END:VEVENT

END:VCALENDAR
