BEGIN:VCALENDAR
VERSION:2.0
PRODID:-//ChamberMaster//Event Calendar 2.0//EN
METHOD:PUBLISH
X-PUBLISHED-TTL:P3D
REFRESH-INTERVAL:P3D
CALSCALE:GREGORIAN
BEGIN:VEVENT
DTSTART:20220814T160000Z
DTEND:20220814T200000Z
X-MICROSOFT-CDO-ALLDAYEVENT:FALSE
SUMMARY:Kayak Rodeo
DESCRIPTION:We will be having the Kayak Rodeo once again this year! This is at Michelle's lake and beach. Lots of fun if you've never done it before! You'll find out more about the events and challenges when you are at the rodeo. Just bring your usual kayak gear and be ready to get wet.\n\n\n\nThis is a potluck and byob. It will start at 11 AM with the potluck starting after the events.\n\n\n\nView map and route directions from your location
X-ALT-DESC;FMTTYPE=text/html:We will be having the Kayak Rodeo once again this year! This is at Michelle&#39\;s lake and beach. Lots of fun if you&#39\;ve never done it before! You&#39\;ll find out more about the events and challenges when you are at the rodeo. Just bring your usual kayak gear and be ready to get wet.<br />\n<br />\nThis is a potluck and byob. It will start at 11 AM with the potluck starting after the events.<br />\n<br />\n<u><strong><a href="https://goo.gl/maps/NC8mi3hdhFL2" target="_blank"><span style="color: rgb(0\, 0\, 128)\;">View map and route directions from your location</span></a></strong></u>
LOCATION:
UID:e.9367.293
SEQUENCE:3
DTSTAMP:20260423T200742Z
URL:https://www.paddlepushers.com/events/details/kayak-rodeo-293
END:VEVENT

END:VCALENDAR
