BEGIN:VCALENDAR
VERSION:2.0
PRODID:-//ChamberMaster//Event Calendar 2.0//EN
METHOD:PUBLISH
X-PUBLISHED-TTL:P3D
REFRESH-INTERVAL:P3D
CALSCALE:GREGORIAN
BEGIN:VEVENT
DTSTART:20240604T230000Z
DTEND:20240605T020000Z
X-MICROSOFT-CDO-ALLDAYEVENT:FALSE
SUMMARY:Kramer Lake - Hosted at Dave and Sandy's
DESCRIPTION:Weekly Tuesday Paddle\n\nThis weeks paddle will be hosted by Dave and Sandy at their home on Kramer Lake. They will do a cookout afterward. Bring a bite to share  and your favorite beverage.\n\n\n\nLOCATION\n\nView map and route directions from your location
X-ALT-DESC;FMTTYPE=text/html:<br />\n<strong style="font-family: arial\; font-size: 18px\;">Weekly Tuesday Paddle</strong><br />\n<span style="font-family: arial\; font-size: 14px\;">This weeks paddle will be hosted by Dave and Sandy at their home on Kramer Lake. They will do a cookout afterward. Bring a bite to share&nbsp\; and your favorite beverage.</span><br />\n<br />\n<strong style="font-family: arial\; font-size: 18px\;">LOCATION</strong><br />\n<u style="font-family: arial\; font-size: 14px\;"><strong><span style="color: rgb(0\, 0\, 128)\;"><a href="https://goo.gl/maps/NCJubkk9GLNoTJv28" style="color: rgb(100\, 50\, 130)\;" target="_blank">View map and route directions from your location</a></span></strong></u>
LOCATION:
UID:e.9367.369
SEQUENCE:3
DTSTAMP:20260422T094322Z
URL:https://www.paddlepushers.com/events/details/kramer-lake-hosted-at-dave-and-sandy-s-369
END:VEVENT

END:VCALENDAR
