BEGIN:VCALENDAR
VERSION:2.0
PRODID:-//ChamberMaster//Event Calendar 2.0//EN
METHOD:PUBLISH
X-PUBLISHED-TTL:P3D
REFRESH-INTERVAL:P3D
CALSCALE:GREGORIAN
BEGIN:VEVENT
DTSTART;VALUE=DATE:20230914
DTEND;VALUE=DATE:20230918
TRANSP:TRANSPARENT
X-MICROSOFT-CDO-ALLDAYEVENT:TRUE
SUMMARY:Lake Bemidji State Park
DESCRIPTION:Location\n\nView map and route directions from your location\n\n\n\nCost\n\n$50 per person\n\n(plus your cost for a state park vehicle sticker)\n\n\n\nSite Details\nWe are in Lavinia Group Site which has a covered picnic shelter with 4 tables\, several electrical outlets for cooking\, a large fire ring outside\, and 2 grill pedestals.\n\n \n\nThere is a limit of 5 RV trailers\, each with 50 amp electrical (NOTE: Trailer sites are now all fully taken/reserved). There is a large tent camping area. The layout is similar to the Vermilion State Park group site with an outer road circling the whole campsite and two interior paved sections for the trailers.
X-ALT-DESC;FMTTYPE=text/html:<span style="font-family:arial\;"><span style="font-size:14px\;"><strong><span style="color: rgb(68\, 68\, 68)\; font-weight: 700\;"><span style="font-size:18px\;">Location</span></span><br />\n<a href="https://goo.gl/maps/8BwaEHfQS4ptb2pK8" style="color: rgb(34\, 72\, 132)\; font: inherit\; letter-spacing: inherit\; text-align: inherit\; text-indent: inherit\; text-transform: inherit\; white-space: inherit\; word-spacing: inherit\; background: none\; box-sizing: content-box\; text-decoration-line: none\; bottom: auto\; clear: none\; content: normal\; direction: inherit\; display: inline\; empty-cells: show\; float: none\; left: auto\; margin: 0px\; max-height: none\; max-width: none\; min-height: initial\; min-width: initial\; opacity: 1\; outline-offset: 0px\; overflow: visible\; padding: 0px\; position: static\; resize: none\; right: auto\; table-layout: auto\; text-overflow: clip\; top: auto\; vertical-align: baseline\; visibility: inherit\; word-break: inherit\; overflow-wrap: break-word\; z-index: auto\; border: none\; border-collapse: separate\; border-radius: 0px\; height: auto\; width: auto\; box-shadow: none\;" target="_blank"><span style="color:#000080\;">View map and route directions from your location</span></a></strong><br />\n<br />\n<span style="font-size:18px\;"><strong>Cost</strong></span><br />\n$50 per person<br />\n(plus your cost for a state park vehicle sticker)<br />\n<br />\n<b><span style="font-size:18px\;">Site Details</span></b></span></span>\n<div class="plain_line" style="background-color: rgba(0\, 0\, 0\, 0)\; margin: 0px\;"><span style="font-size:14px\;"><span style="font-family:arial\;">We are in Lavinia Group Site&nbsp\;which has a covered picnic shelter with 4 tables\,&nbsp\;several electrical outlets for cooking\, a large fire ring outside\, and 2 grill pedestals.</span></span></div>\n\n<div class="plain_line" style="background-color: rgba(0\, 0\, 0\, 0)\; margin: 0px\;">&nbsp\;</div>\n\n<div class="plain_line" style="background-color: rgba(0\, 0\, 0\, 0)\; margin: 0px\;"><span style="font-size:14px\;"><span style="font-family:arial\;">There is a limit of&nbsp\;5 RV trailers\, each with&nbsp\;50 amp electrical </span></span><span style="color: rgb(255\, 0\, 0)\; font-family: arial\; font-size: 14px\;">(NOTE: Trailer sites are now all fully taken/reserved)</span><span style="font-size:14px\;"><span style="font-family:arial\;">. There is a large tent camping area.&nbsp\;The layout is similar to the Vermilion State Park group site&nbsp\;with an outer road circling the whole campsite and two interior paved sections for the trailers.</span></span></div>\n
LOCATION:
UID:e.9367.320
SEQUENCE:3
DTSTAMP:20260422T233742Z
URL:https://www.paddlepushers.com/events/details/lake-bemidji-state-park-320
END:VEVENT

END:VCALENDAR
