BEGIN:VCALENDAR
VERSION:2.0
PRODID:-//ChamberMaster//Event Calendar 2.0//EN
METHOD:PUBLISH
X-PUBLISHED-TTL:P3D
REFRESH-INTERVAL:P3D
CALSCALE:GREGORIAN
BEGIN:VEVENT
DTSTART;VALUE=DATE:20240912
DTEND;VALUE=DATE:20240916
TRANSP:TRANSPARENT
X-MICROSOFT-CDO-ALLDAYEVENT:TRUE
SUMMARY:Lake Bemidji State Park
DESCRIPTION:Location\n\nView map and route directions from your location\n\n\n\nCost\n\n$45 per person\n\n(plus your cost for a required state park vehicle sticker)\n\n\n\nSite Details\n\nWe are in Lavinia Group Site which has a covered picnic shelter with 4 tables\, several electrical outlets for cooking\, a large fire ring outside\, and 2 grill pedestals.\n\n\n\nThere are 5 RV spots with 50 amp electric\, 4 pull thru and 1 back in. These can be used by one full size RV or we could get a couple teardrop or similar 12ft or under RVs shared on one site. When registering we need to limit it to 5 RVs so we don't overbook but we'll monitor registrations and adjust limits accordingly based on RV type selected. Just make sure to choose the proper site needed. If your requested site type is currently not available\, reach out and we can see how to arrange site sharing to make it work for all wanting to come.\n\n\n\nRV sites will require moving your vehicle to the overflow parking area for the group site in order to accommodate renters near their tents. Assigned sites and parking information will be provided once we are closer to the trip and we have more details on registration types.\n\n \n\nThere is also a large tent camping area. The layout is similar to the Vermilion State Park group site with an outer road circling the whole campsite and two interior paved sections for the trailers.
X-ALT-DESC;FMTTYPE=text/html:<span style="font-family:arial\;"><span style="font-size:14px\;"><strong><span style="color: rgb(68\, 68\, 68)\; font-weight: 700\;"><span style="font-size:18px\;">Location</span></span><br />\n<a href="https://goo.gl/maps/8BwaEHfQS4ptb2pK8" style="color: rgb(34\, 72\, 132)\; font: inherit\; letter-spacing: inherit\; text-align: inherit\; text-indent: inherit\; text-transform: inherit\; white-space: inherit\; word-spacing: inherit\; background: none\; box-sizing: content-box\; text-decoration-line: none\; bottom: auto\; clear: none\; content: normal\; direction: inherit\; display: inline\; empty-cells: show\; float: none\; left: auto\; margin: 0px\; max-height: none\; max-width: none\; min-height: initial\; min-width: initial\; opacity: 1\; outline-offset: 0px\; overflow: visible\; padding: 0px\; position: static\; resize: none\; right: auto\; table-layout: auto\; text-overflow: clip\; top: auto\; vertical-align: baseline\; visibility: inherit\; word-break: inherit\; overflow-wrap: break-word\; z-index: auto\; border: none\; border-collapse: separate\; border-radius: 0px\; height: auto\; width: auto\; box-shadow: none\;" target="_blank"><span style="color:#000080\;">View map and route directions from your location</span></a></strong><br />\n<br />\n<span style="font-size:18px\;"><strong>Cost</strong></span><br />\n$45 per person<br />\n(plus your cost for a required state park vehicle sticker)<br />\n<br />\n<b><span style="font-size:18px\;">Site Details</span></b></span></span>\n\n<div class="plain_line" style="background-color: rgba(0\, 0\, 0\, 0)\; margin: 0px\;"><span style="font-size:14px\;"><span style="font-family:arial\;">We are in Lavinia Group Site&nbsp\;which has a covered picnic shelter with 4 tables\,&nbsp\;several electrical outlets for cooking\, a large fire ring outside\, and 2 grill pedestals.</span></span></div>\n\n<div class="plain_line" style="background-color: rgba(0\, 0\, 0\, 0)\; margin: 0px\;"><br />\n<span style="font-size:14px\;"><span style="font-family:arial\;">There are 5 RV spots with 50 amp electric\, 4 pull thru and 1 back in. These can be used by one full size RV or we could get a couple teardrop or similar 12ft or under RVs&nbsp\;shared on one&nbsp\;site. When registering we need&nbsp\;to limit it to 5 RVs so we don&#39\;t overbook but we&#39\;ll&nbsp\;monitor registrations and adjust limits&nbsp\;accordingly based on RV type selected.&nbsp\;Just make sure to choose the proper site needed. If your requested site type is currently not available\, reach out and we can see how to arrange site sharing to make it work for all wanting to come.</span></span><br />\n<br />\n<span style="font-size:14px\;"><span style="font-family:arial\;">RV sites will require moving your vehicle to the overflow parking area for the group site in order to accommodate renters near their tents. Assigned sites and parking information will be provided once we are closer to the trip and we have more details on registration types.</span></span><br />\n&nbsp\;</div>\n\n<div class="plain_line" style="background-color: rgba(0\, 0\, 0\, 0)\; margin: 0px\;"><span style="font-size:14px\;"><span style="font-family:arial\;">There is also a large tent camping area.&nbsp\;The layout is similar to the Vermilion State Park group site&nbsp\;with an outer road circling the whole campsite and two interior paved sections for the trailers.</span></span></div>\n
LOCATION:
UID:e.9367.364
SEQUENCE:3
DTSTAMP:20260422T083245Z
URL:https://www.paddlepushers.com/events/details/lake-bemidji-state-park-364
END:VEVENT

END:VCALENDAR
