BEGIN:VCALENDAR
VERSION:2.0
PRODID:-//ChamberMaster//Event Calendar 2.0//EN
METHOD:PUBLISH
X-PUBLISHED-TTL:P3D
REFRESH-INTERVAL:P3D
CALSCALE:GREGORIAN
BEGIN:VEVENT
DTSTART:20260707T230000Z
DTEND:20260708T020000Z
X-MICROSOFT-CDO-ALLDAYEVENT:FALSE
SUMMARY:Lake Edna - Potluck at Jen and Vic's
DESCRIPTION:Weekly Tuesday Paddle\n\nThis weeks paddle will be hosted by Jen and Vic. After launching from the public access and paddling on Lake Edna we will head over to Jen and Vic's for a potluck. Please bring a dish to share.\n\n\n\nLOCATION\n\nLake Edna Public Access\n\nView map and route directions from your location\n\n\n\nView map to Jenny and Vics
X-ALT-DESC;FMTTYPE=text/html:<br />\n<strong style="font-family: arial\; font-size: 18px\;">Weekly Tuesday Paddle</strong><br />\nThis weeks paddle will be hosted by Jen and Vic.&nbsp\;After launching from the public access and paddling on Lake Edna we will head over to Jen and Vic&#39\;s for a potluck. Please bring a dish to share.<br />\n<br />\n<strong style="font-family: Roboto\, sans-serif\;"><span style="font-size: 18px\;"><span style="font-family: arial\;">LOCATION</span></span></strong><br />\nLake Edna Public Access<br />\n<u><strong><a href="https://goo.gl/maps/Av713m51HSs" target="_blank"><span style="color: rgb(0\, 0\, 128)\;">View map and route directions from your location</span></a></strong></u><br />\n<br />\n<u><strong><a href="https://goo.gl/maps/zCcxPV1wBkWiMsi27" target="_blank"><span style="color: rgb(0\, 0\, 128)\;">View map to Jenny and&nbsp\;Vics</span></a></strong></u><br />\n&nbsp\;
LOCATION:
UID:e.9367.429
SEQUENCE:3
DTSTAMP:20260419T171018Z
URL:https://www.paddlepushers.com/events/details/lake-edna-potluck-at-jen-and-vic-s-429
END:VEVENT

END:VCALENDAR
