BEGIN:VCALENDAR
VERSION:2.0
PRODID:-//ChamberMaster//Event Calendar 2.0//EN
METHOD:PUBLISH
X-PUBLISHED-TTL:P3D
REFRESH-INTERVAL:P3D
CALSCALE:GREGORIAN
BEGIN:VEVENT
DTSTART;VALUE=DATE:20250911
DTEND;VALUE=DATE:20250915
TRANSP:TRANSPARENT
X-MICROSOFT-CDO-ALLDAYEVENT:TRUE
SUMMARY:Lake Itaska State Park
DESCRIPTION:Location\n\nView map and route directions from your location\n\n\n\nCost \n\n$60\n\n\n\nRegistration Details\n\n\n	Each attendee needs to pay the fee\, even if not kayaking\n	Choosing a reservation type allows us to track who needs a spot for their tent or trailer (one per registration)\n	Anyone who is staying in someone else's tent or trailer will select Additional Attendee reservation type\n	If you have a tent or trailer and that reservation type is no longer selectable then those sites are sold out\n\nSite Details\n\n \n\n	We have 5 sites reserved in Bear Paw Campground\n	Sites are 62\, 63\, 64\, 66 and 67\, all have lake view\n	Each site can have 1 trailer and 1 tent\n	Max of 5 trailers (Sold Out)\n	Max of 5 tents\n	10 people needed to register to break even for this trip
X-ALT-DESC;FMTTYPE=text/html:<p><strong style="font-family: arial\; font-size: 14px\;"><span style="font-size: 18px\;">Location</span><br />\n<u><a href="https://maps.app.goo.gl/bkTPgHjzGbr41JRcA" target="_blank"><span style="color: rgb(0\, 0\, 128)\;">View map and route directions from your location</span></a></u></strong><br />\n<br />\n<span style="font-family: arial\;"><span style="font-size: 14px\;"><span style="box-sizing: content-box\; font-weight: bolder\; inset: auto\; clear: none\; color: rgb(68\, 68\, 68)\; content: normal\; direction: inherit\; empty-cells: show\; font-variant-numeric: inherit\; font-variant-east-asian: inherit\; font-stretch: inherit\; line-height: inherit\; margin: 0px\; max-height: none\; max-width: none\; min-height: initial\; min-width: initial\; opacity: 1\; outline-offset: 0px\; overflow: visible\; padding: 0px\; position: static\; resize: none\; table-layout: auto\; text-overflow: clip\; vertical-align: baseline\; visibility: inherit\; word-break: inherit\; overflow-wrap: inherit\; z-index: auto\; background-image: none\; background-position: initial\; background-size: initial\; background-repeat: initial\; background-attachment: initial\; background-origin: initial\; background-clip: initial\; border: none\; border-collapse: separate\; border-radius: 0px\; height: auto\; width: auto\; box-shadow: none\;"><span style="font-size: 18px\;">Cost&nbsp\;</span></span></span></span><br />\n$60<br />\n<br />\n<span style="font-family: arial\;"><span style="font-size: 14px\;"><span style="font-size: 18px\;"><strong>Registration Details</strong></span></span></span></p>\n\n<ul>\n	<li style="box-sizing: border-box\; margin: 0px\;"><span style="box-sizing: border-box\; font-family: arial\;">Each attendee needs to pay the fee\, even if not kayaking</span></li>\n	<li style="box-sizing: border-box\; margin: 0px\;"><span style="box-sizing: border-box\; font-family: arial\;">Choosing a reservation type allows us to track who needs a spot for their&nbsp\;tent or trailer (one per registration)</span></li>\n	<li style="box-sizing: border-box\; margin: 0px\;"><span style="box-sizing: border-box\; font-family: arial\;">Anyone who is staying in someone else&#39\;s tent or trailer will select Additional Attendee reservation type</span></li>\n	<li style="box-sizing: border-box\; margin: 0px\;"><span style="box-sizing: border-box\; font-family: arial\;">If you have a tent or trailer and that reservation type is no longer selectable&nbsp\;then those sites are sold out</span></li>\n</ul>\n<span style="font-family: arial\;"><span style="font-size: 14px\;"><span style="font-size: 18px\;"><strong>Site Details</strong></span></span></span><br />\n&nbsp\;\n<ul>\n	<li><span style="font-size:14px\;"><span style="font-family: arial\;">We have 5 sites reserved in <u><strong><a href="https://files.dnr.state.mn.us/maps/state_parks/spk00181_camp.pdf" target="_blank"><span style="color:#000080\;">Bear Paw&nbsp\;Campground</span></a></strong></u></span></span></li>\n	<li><span style="font-size:14px\;"><span style="font-family: arial\;">Sites are 62\, 63\, 64\, 66 and 67\, all have lake view</span></span></li>\n	<li><span style="font-size:14px\;"><span style="font-family: arial\;">Each site can have 1 trailer and 1 tent</span></span></li>\n	<li><span style="font-size:14px\;"><span style="font-family: arial\;">Max of 5 trailers <span style="color:#B22222\;"><strong>(Sold Out)</strong></span></span></span></li>\n	<li><span style="font-size:14px\;"><span style="font-family: arial\;">Max of 5 tents</span></span></li>\n	<li><span style="font-size:14px\;"><span style="font-family: arial\;">10 people needed to register to break even for this trip</span></span></li>\n</ul>\n
LOCATION:
UID:e.9367.392
SEQUENCE:3
DTSTAMP:20260419T134733Z
URL:https://www.paddlepushers.com/events/details/lake-itaska-state-park-392
END:VEVENT

END:VCALENDAR
