BEGIN:VCALENDAR
VERSION:2.0
PRODID:-//ChamberMaster//Event Calendar 2.0//EN
METHOD:PUBLISH
X-PUBLISHED-TTL:P3D
REFRESH-INTERVAL:P3D
CALSCALE:GREGORIAN
BEGIN:VEVENT
DTSTART:20260818T230000Z
DTEND:20260819T020000Z
X-MICROSOFT-CDO-ALLDAYEVENT:FALSE
SUMMARY:Lake Margaret
DESCRIPTION:Weekly Tuesday Paddle\n\nWe will launch from the same location as the Gull Lake Narrows. Once we pass under the bridge we then head left into Lake Margaret.\n\n \n\nLOCATION\n\nView map and route directions from your location
X-ALT-DESC;FMTTYPE=text/html:<p style="margin:0in\;font-family:Calibri\;font-size:11.0pt\;color:#333333"><br />\n<span style="font-size:14px\;"><span style="font-family:arial\;"><span style="font-size:18px\;"><strong>Weekly Tuesday Paddle</strong></span><br />\nWe will launch from the same location as the Gull Lake Narrows. Once we pass under the bridge we then head left into&nbsp\;Lake&nbsp\;Margaret.</span></span><br />\n&nbsp\;</p>\n\n<p style="margin:0in\;font-family:Calibri\;font-size:11.0pt\;color:#333333"><span style="font-size:18px\;"><span style="font-family:arial\;"><span style="font-weight:bold">LOCATION</span></span></span></p>\n\n<p style="margin:0in\;font-family:Calibri\;font-size:11.0pt"><span style="font-size:16px\;"><span style="font-family:arial\;"><u><strong><span style="font-weight:bold"><a href="https://goo.gl/maps/AsS2GVWVRL82" target="_blank"><span style="color:#008000\;">View map and route directions from your location</span></a></span></strong></u></span></span><br />\n<br />\n&nbsp\;</p>\n
LOCATION:
UID:e.9367.435
SEQUENCE:3
DTSTAMP:20260419T184423Z
URL:https://www.paddlepushers.com/events/details/lake-margaret-435
END:VEVENT

END:VCALENDAR
