BEGIN:VCALENDAR
VERSION:2.0
PRODID:-//ChamberMaster//Event Calendar 2.0//EN
METHOD:PUBLISH
X-PUBLISHED-TTL:P3D
REFRESH-INTERVAL:P3D
CALSCALE:GREGORIAN
BEGIN:VEVENT
DTSTART;VALUE=DATE:20220825
DTEND;VALUE=DATE:20220829
TRANSP:TRANSPARENT
X-MICROSOFT-CDO-ALLDAYEVENT:TRUE
SUMMARY:Lake Vermilion State Park
DESCRIPTION:Location\n\nView map and route directions from your location\n\n\n\nCost\n\n$60\n\n\n\nSite Details\n\nWe have space for 8 trailers. We'll be in the Ojiig group camp site.\n\n\n\nSo that we can keep a count of units\, please mark if coming with trailer\, tent or shared space (tent/trailer) when registering. \n\n\n\nLake Vermilion State Park\n\nThis state park encompasses approximately 4\,000 acres of stunning\, rugged landscape. The park has ample shoreline and numerous rocky islands coated with lichens and studded with trees. The park is also home to the Soudan Mine with tours available and the additional potential for lots of good hiking.
X-ALT-DESC;FMTTYPE=text/html:<br />\n<span style="font-size: 18px\;"><span style="font-family:arial\;"><strong>Location</strong><br />\n<span style="font-size:14px\;"><u><strong><a href="https://goo.gl/maps/dnfEtqHSccu" target="_blank"><span style="color: rgb(0\, 0\, 128)\;">View map and route directions from your location</span></a></strong></u></span></span></span><br />\n<br />\n<span style="font-family: arial\;"><strong style="font-size: 18px\;">Cost</strong><br />\n<span style="font-size: 14px\;">$60</span><br />\n<br />\n<strong style="font-size: 18px\;">Site Details</strong></span><br />\n<span style="font-size:14px\;"><span style="font-family:arial\;">We have space for 8 trailers. We&#39\;ll be in the&nbsp\;<span style="background-color: rgba(0\, 0\, 0\, 0)\;">Ojiig group camp site.</span></span></span><br />\n<br />\n<span style="font-size:14px\;"><span style="font-family:arial\;"><span style="color: rgb(51\, 62\, 39)\;">So that we can keep a count of units\, please mark if coming with trailer\, tent or shared space (tent/trailer) when registering.&nbsp\;</span></span></span><br />\n<br />\n<span style="font-size:14px\;"><span style="font-size:18px\;"><span style="font-family:arial\;"><strong>Lake Vermilion State Park</strong><br />\n<span style="font-size:14px\;">This state park encompasses approximately 4\,000 acres of stunning\, rugged landscape. The park has ample shoreline and numerous rocky islands coated with lichens and studded with trees. The park is also home to the Soudan Mine with tours available and the additional potential for lots of good hiking.&nbsp\;</span></span></span></span><br />\n<br />\n<br />\n<br />\n&nbsp\;
LOCATION:
UID:e.9367.294
SEQUENCE:3
DTSTAMP:20260423T200835Z
URL:https://www.paddlepushers.com/events/details/lake-vermilion-state-park-294
END:VEVENT

END:VCALENDAR
