BEGIN:VCALENDAR
VERSION:2.0
PRODID:-//ChamberMaster//Event Calendar 2.0//EN
METHOD:PUBLISH
X-PUBLISHED-TTL:P3D
REFRESH-INTERVAL:P3D
CALSCALE:GREGORIAN
BEGIN:VEVENT
DTSTART:20230827T123000Z
DTEND:20230827T150000Z
X-MICROSOFT-CDO-ALLDAYEVENT:FALSE
SUMMARY:Lakes Country Triathlon - Kayak Volunteer
DESCRIPTION:The kayak club has been helping with the Lakes Country Triathlon for a few years now. What is needed is kayaker's in the water during the 1/4 mile swim portion of the Triathlon. We are off to the side but ready to help any swimmer if needed.\n\n\n\nClick the "Register" link to let us know that you will be volunteering.\n\n\n\nSwim portion is at Whipple Beach in Baxter.\n\nClick here to map directions from your location.
X-ALT-DESC;FMTTYPE=text/html:The kayak club has been helping with the Lakes Country Triathlon for a few years now. What is needed is kayaker&#39\;s in the water during the 1/4 mile swim portion of the Triathlon. We are off to the side but ready to help any swimmer if needed.<br />\n<br />\nClick the &quot\;Register&quot\; link to let us know that you will be volunteering.<br />\n<br />\nSwim portion is at Whipple Beach in Baxter.<br />\n<a href="https://goo.gl/maps/vCD3J2FXdxH2">Click here to map directions from your location.</a>
LOCATION:
UID:e.9367.336
SEQUENCE:3
DTSTAMP:20260423T012800Z
URL:https://www.paddlepushers.com/events/details/lakes-country-triathlon-kayak-volunteer-336
END:VEVENT

END:VCALENDAR
