BEGIN:VCALENDAR
VERSION:2.0
PRODID:-//ChamberMaster//Event Calendar 2.0//EN
METHOD:PUBLISH
X-PUBLISHED-TTL:P3D
REFRESH-INTERVAL:P3D
CALSCALE:GREGORIAN
BEGIN:VEVENT
DTSTART:20240903T230000Z
DTEND:20240904T020000Z
X-MICROSOFT-CDO-ALLDAYEVENT:FALSE
SUMMARY:Lower Cullen Lake
DESCRIPTION:Weekly Tuesday Paddle\n\nWe'll launch at Lower Cullen and head towards Middle and Upper Cullen.\n\n\n\nLOCATION\n\nView map and route directions from your location
X-ALT-DESC;FMTTYPE=text/html:<br />\n<span style="font-size:18px\;"><span style="font-family:arial\;"><strong>Weekly Tuesday Paddle</strong><br />\n<span style="font-size:14px\;">We&#39\;ll launch at Lower Cullen and head towards Middle and Upper Cullen.</span><br />\n<br />\n<strong>LOCATION</strong><br />\n<span style="font-size:14px\;"><u><strong><a href="https://goo.gl/maps/qvap1U9pqLB2" target="_blank"><span style="color:#000080\;">View map and route directions from your location</span></a></strong></u></span></span></span>
LOCATION:
UID:e.9367.381
SEQUENCE:3
DTSTAMP:20260422T083214Z
URL:https://www.paddlepushers.com/events/details/lower-cullen-lake-381
END:VEVENT

END:VCALENDAR
