BEGIN:VCALENDAR
VERSION:2.0
PRODID:-//ChamberMaster//Event Calendar 2.0//EN
METHOD:PUBLISH
X-PUBLISHED-TTL:P3D
REFRESH-INTERVAL:P3D
CALSCALE:GREGORIAN
BEGIN:VEVENT
DTSTART;VALUE=DATE:20250619
DTEND;VALUE=DATE:20250623
TRANSP:TRANSPARENT
X-MICROSOFT-CDO-ALLDAYEVENT:TRUE
SUMMARY:McCarthy Beach State Park - SOLD OUT
DESCRIPTION:THIS TRIP IS SOLD OUT\n\nLocation\n\nView map and route directions from your location\n\n\n\nCost\n\n$38.50 per person for Non-Electric Sites and Tents\n\n$54.50 per person for Electric Sites (must have 2 attendee's for $109 minimum total site fee) SOLD OUT\n\n\n\nRegistration Details\n\n\n	Each attendee needs to pay the fee\, even if not kayaking\n	Choosing a reservation type allows us to track who needs a spot for their tent or trailer (one per registration)\n	Anyone who is staying in someone else's tent or trailer will select Additional Attendee reservation type\n	If you have a tent or trailer and that reservation type is no longer selectable then those sites are sold out\n\nSite Details\n\n\n	We have reserved sites 19\,29\,30\,31\n	All trailers must be under 25ft\, the campsites are small\n	1 Electric sites - SOLD OUT\n	3 Non-electric sites will accommodate \n	\n		2 trailers - SOLD OUT\n		1 teardrop - SOLD OUT\n		5 tents
X-ALT-DESC;FMTTYPE=text/html:<p><span style="color:#B22222\;"><strong>THIS TRIP IS SOLD OUT</strong></span><br />\n<strong style="font-family: arial\; font-size: 14px\;"><span style="font-size: 18px\;">Location</span><br />\n<a href="https://maps.app.goo.gl/gewyHthiFm2L8YUX7" target="_blank"><span style="color: rgb(0\, 0\, 128)\;">View map and route directions from your location</span></a></strong><br />\n<br />\n<span style="font-family: arial\;"><span style="font-size: 14px\;"><span style="box-sizing: content-box\; font-weight: bolder\; inset: auto\; clear: none\; color: rgb(68\, 68\, 68)\; content: normal\; direction: inherit\; empty-cells: show\; font-variant-numeric: inherit\; font-variant-east-asian: inherit\; font-stretch: inherit\; line-height: inherit\; margin: 0px\; max-height: none\; max-width: none\; min-height: initial\; min-width: initial\; opacity: 1\; outline-offset: 0px\; overflow: visible\; padding: 0px\; position: static\; resize: none\; table-layout: auto\; text-overflow: clip\; vertical-align: baseline\; visibility: inherit\; word-break: inherit\; overflow-wrap: inherit\; z-index: auto\; background-image: none\; background-position: initial\; background-size: initial\; background-repeat: initial\; background-attachment: initial\; background-origin: initial\; background-clip: initial\; border: none\; border-collapse: separate\; border-radius: 0px\; height: auto\; width: auto\; box-shadow: none\;"><span style="font-size: 18px\;">Cost</span></span><br />\n<font color="#444444">$38.50 per person for Non-Electric Sites and Tents<br />\n<s>$54.50&nbsp\;per person for Electric Sites (must have 2 attendee&#39\;s for $109 minimum total site fee)</s>&nbsp\;SOLD OUT</font></span></span><br />\n<br />\n<span style="font-family: arial\;"><span style="font-size: 14px\;"><span style="font-size: 18px\;"><strong>Registration Details</strong></span></span></span></p>\n\n<ul>\n	<li style="box-sizing: border-box\; margin: 0px\;"><span style="box-sizing: border-box\; font-family: arial\;">Each attendee needs to pay the fee\, even if not kayaking</span></li>\n	<li style="box-sizing: border-box\; margin: 0px\;"><span style="box-sizing: border-box\; font-family: arial\;">Choosing a reservation type allows us to track who needs a spot for their&nbsp\;tent or trailer (one per registration)</span></li>\n	<li style="box-sizing: border-box\; margin: 0px\;"><span style="box-sizing: border-box\; font-family: arial\;">Anyone who is staying in someone else&#39\;s tent or trailer will select Additional Attendee reservation type</span></li>\n	<li style="box-sizing: border-box\; margin: 0px\;"><span style="box-sizing: border-box\; font-family: arial\;">If you have a tent or trailer and that reservation type is no longer selectable&nbsp\;then those sites are sold out</span></li>\n</ul>\n<span style="font-family: arial\;"><span style="font-size: 14px\;"><span style="font-size: 18px\;"><strong>Site Details</strong></span></span></span>\n\n<ul>\n	<li>We have reserved sites 19\,29\,30\,31</li>\n	<li><font face="arial"><span style="font-size: 14px\;">All trailers must be under 25ft\, the campsites are small</span></font></li>\n	<li><span style="font-family: arial\;"><span style="font-size: 14px\;">1 Electric sites -&nbsp\;<span style="color:#B22222\;"><strong>SOLD OUT</strong></span></span></span></li>\n	<li><span style="font-family: arial\;"><span style="font-size: 14px\;">3 Non-electric sites will </span></span>accommodate&nbsp\;\n	<ul>\n		<li><span style="font-family: arial\;"><span style="font-size: 14px\;">2 trailers - <span style="color:#B22222\;"><strong>SOLD OUT</strong></span></span></span></li>\n		<li><span style="font-family: arial\;"><span style="font-size: 14px\;">1&nbsp\;teardrop - <strong><span style="color:#B22222\;">SOLD OUT</span></strong></span></span></li>\n		<li><span style="font-family: arial\;"><span style="font-size: 14px\;">5 tents</span></span></li>\n	</ul>\n	</li>\n</ul>\n<br />\n&nbsp\;
LOCATION:
UID:e.9367.390
SEQUENCE:3
DTSTAMP:20260419T182524Z
URL:https://www.paddlepushers.com/events/details/mccarthy-beach-state-park-sold-out-390
END:VEVENT

END:VCALENDAR
