BEGIN:VCALENDAR
VERSION:2.0
PRODID:-//ChamberMaster//Event Calendar 2.0//EN
METHOD:PUBLISH
X-PUBLISHED-TTL:P3D
REFRESH-INTERVAL:P3D
CALSCALE:GREGORIAN
BEGIN:VEVENT
DTSTART:20260728T230000Z
DTEND:20260729T020000Z
X-MICROSOFT-CDO-ALLDAYEVENT:FALSE
SUMMARY:Pelican Lake - Potluck at Deb's
DESCRIPTION:Weekly Tuesday Paddle\n\nDeb is hosting this Tuesday paddle. Bring a bite to eat for after the paddle and your favorite beverage.\n\n\n\nLOCATION\n\nView map and route directions from your location
X-ALT-DESC;FMTTYPE=text/html:<br />\n<span style="font-size:18px\;"><span style="font-family:arial\;"><strong>Weekly Tuesday Paddle</strong><br />\n<span style="font-size:14px\;">Deb is hosting this Tuesday paddle. Bring a bite to eat for after the paddle and your favorite beverage.</span><br />\n<br />\n<strong>LOCATION</strong><br />\n<span style="font-size:14px\;"><u><strong><a href="https://goo.gl/maps/PUCN6WkNuL12" target="_blank"><span style="color: rgb(0\, 0\, 128)\;">View map and route directions from your location</span></a></strong></u></span></span></span><br />\n<br />\n&nbsp\;
LOCATION:
UID:e.9367.432
SEQUENCE:3
DTSTAMP:20260419T170954Z
URL:https://www.paddlepushers.com/events/details/pelican-lake-potluck-at-deb-s-432
END:VEVENT

END:VCALENDAR
