BEGIN:VCALENDAR
VERSION:2.0
PRODID:-//ChamberMaster//Event Calendar 2.0//EN
METHOD:PUBLISH
X-PUBLISHED-TTL:P3D
REFRESH-INTERVAL:P3D
CALSCALE:GREGORIAN
BEGIN:VEVENT
DTSTART:20231003T230000Z
DTEND:20231004T020000Z
X-MICROSOFT-CDO-ALLDAYEVENT:FALSE
SUMMARY:Ruthie's Year End
DESCRIPTION:Join us for our annual year end party at Ruthie's (Gull Lake Resort). We will be meeting at her house\, not in a cabin this year. This is a pot luck party so bring your favorite dish to share and your favorite beverage. If you feel like paddling as well you can launch at the resort out into Gull Lake.\n\n \n\n\n\n\n6 PM will be Social Hour\n\n7 PM will be a "pot luck" BYOB.\n\n\n\n\n\n\nLOCATION\n\nView map and route directions from your location
X-ALT-DESC;FMTTYPE=text/html:<span style="font-size:14px\;"><span style="font-family:arial\;">Join us for our annual year end party at Ruthie&#39\;s (Gull Lake Resort). We will be meeting at her house\, not in a cabin this year. This is a pot luck party so bring your favorite dish to share and your favorite beverage. If you feel like paddling as well you can launch at the resort out into Gull Lake.</span></span><br />\n&nbsp\;\n<div>\n<div id="ygrp-mlmsg" style="position:relative\;">\n<div id="ygrp-msg" style="z-index: 1\;">\n<div id="ygrp-text">\n<div class="class"><span style="font-size:14px\;"><span style="font-family:arial\;"><b class="class">6 PM </b>will be Social Hour</span></span></div>\n\n<div class="class"><span style="font-size:14px\;"><span style="font-family:arial\;"><b class="class">7 PM</b> will be a &ldquo\;pot luck&rdquo\; BYOB.</span></span></div>\n</div>\n</div>\n</div>\n</div>\n<br />\n<span style="font-size:14px\;"><span style="font-family:arial\;"><span style="font-size:18px\;"><strong>LOCATION</strong></span><br />\n<span style="font-size:16px\;"><u><strong><a href="https://goo.gl/maps/AtAHcu1oxzFNTsQN6" target="_blank"><span style="color:#008000\;">View map and route directions from your location</span></a></strong></u></span></span></span>
LOCATION:
UID:e.9367.342
SEQUENCE:3
DTSTAMP:20260422T220217Z
URL:https://www.paddlepushers.com/events/details/ruthie-s-year-end-342
END:VEVENT

END:VCALENDAR
