BEGIN:VCALENDAR
VERSION:2.0
PRODID:-//ChamberMaster//Event Calendar 2.0//EN
METHOD:PUBLISH
X-PUBLISHED-TTL:P3D
REFRESH-INTERVAL:P3D
CALSCALE:GREGORIAN
BEGIN:VEVENT
DTSTART:20230621T230000Z
DTEND:20230622T013000Z
X-MICROSOFT-CDO-ALLDAYEVENT:FALSE
SUMMARY:Skills Night
DESCRIPTION:Join us for our Wednesday Skills Night. This event always launches on Gull Lake. This evenings focus will be forward strokes for both euroblade and greenland sticks. If members have an extra greenland stick please bring it along in case those that don't have or haven't tried a greenland can give that stick type a try. Clayton\, Joe and Renee will be leading the instruction. We will also cover draw strokes and advanced maneuvers.\n\n\n\nAfter paddling we watch the sunset on Gull Lake while sharing some snacks. Bring your favorite beverage and a snack to share.\n\n\n\nLOCATION\n\nView map and route directions from your location
X-ALT-DESC;FMTTYPE=text/html:<span style="font-size:14px\;"><span style="font-family:arial\;">Join us for our Wednesday Skills Night. This event always launches on Gull Lake. This evenings focus will be forward strokes for both euroblade and greenland sticks. If members have an extra greenland stick please bring it along in case those that don&#39\;t have or haven&#39\;t tried a greenland can give that stick type a try. Clayton\, Joe and Renee will be leading the instruction. We will also cover draw strokes and advanced maneuvers.<br />\n<br />\nAfter paddling we watch the sunset on Gull Lake while sharing some snacks. Bring your favorite beverage and a snack to share.<br />\n<br />\n<span style="font-size:18px\;"><strong>LOCATION</strong></span><br />\n<u><strong><a href="https://goo.gl/maps/fjv4DLuFomB2" target="_blank">View map and route directions from your location</a></strong></u></span></span>
LOCATION:
UID:e.9367.346
SEQUENCE:3
DTSTAMP:20260423T040951Z
URL:https://www.paddlepushers.com/events/details/skills-night-346
END:VEVENT

END:VCALENDAR
