BEGIN:VCALENDAR
VERSION:2.0
PRODID:-//ChamberMaster//Event Calendar 2.0//EN
METHOD:PUBLISH
X-PUBLISHED-TTL:P3D
REFRESH-INTERVAL:P3D
CALSCALE:GREGORIAN
BEGIN:VEVENT
DTSTART:20230628T230000Z
DTEND:20230629T013000Z
X-MICROSOFT-CDO-ALLDAYEVENT:FALSE
SUMMARY:Skills Night
DESCRIPTION:CANCELLED DUE TO WEATHER - SEE YOU NEXT WEEK AT MICHELLE'S\n\n\n\nJoin us for our Wednesday Skills Night. This event always launches on Gull Lake. This evenings focus will be turning\, bracing\, edging and J leans. Clayton and Joe will be leading the instruction.\n\n\n\nAfter paddling we watch the sunset on Gull Lake while sharing some snacks. Bring your favorite beverage and a snack to share.\n\n\n\nLOCATION\n\nView map and route directions from your location
X-ALT-DESC;FMTTYPE=text/html:<span style="font-size:14px\;"><span style="font-family:arial\;"><font color="#ff0000">CANCELLED DUE TO WEATHER - SEE YOU NEXT WEEK AT MICHELLE&#39\;S</font><br />\n<br />\nJoin us for our Wednesday Skills Night. This event always launches on Gull Lake. This evenings focus will be turning\, bracing\, edging and J leans. Clayton and Joe will be leading the instruction.<br />\n<br />\nAfter paddling we watch the sunset on Gull Lake while sharing some snacks. Bring your favorite beverage and a snack to share.<br />\n<br />\n<span style="font-size:18px\;"><strong>LOCATION</strong></span><br />\n<u><strong><a href="https://goo.gl/maps/fjv4DLuFomB2" target="_blank">View map and route directions from your location</a></strong></u></span></span>
LOCATION:
UID:e.9367.347
SEQUENCE:3
DTSTAMP:20260423T040925Z
URL:https://www.paddlepushers.com/events/details/skills-night-347
END:VEVENT

END:VCALENDAR
