BEGIN:VCALENDAR
VERSION:2.0
PRODID:-//ChamberMaster//Event Calendar 2.0//EN
METHOD:PUBLISH
X-PUBLISHED-TTL:P3D
REFRESH-INTERVAL:P3D
CALSCALE:GREGORIAN
BEGIN:VEVENT
DTSTART:20240529T230000Z
DTEND:20240530T013000Z
X-MICROSOFT-CDO-ALLDAYEVENT:FALSE
SUMMARY:Skills Night - Forward Strokes
DESCRIPTION:Join us for a Wednesday Skills Night. This event will launch on Gull Lake.\n\n\n\nThe focus will be on forward strokes. Sipke will take the lead using Greenland stick and Aleutian paddles and Clayton will cover euroblade paddles. No matter your favorite type of paddle\, come out and learn or brush up on your forward stroke technique.\n\n\n\nAfter paddling we watch the sunset on Gull Lake while sharing some snacks. Bring your favorite beverage and a snack to share.\n\n\n\nLOCATION\n\nView map and route directions from your location
X-ALT-DESC;FMTTYPE=text/html:<span style="font-size:14px\;"><span style="font-family:arial\;">Join us for a Wednesday Skills Night. This event will launch on Gull Lake.<br />\n<br />\nThe&nbsp\;focus will be on forward strokes. Sipke will take the lead using Greenland stick and Aleutian paddles and Clayton will cover euroblade paddles. No matter your favorite type of paddle\, come out and learn or brush up on your forward stroke technique.<br />\n<br />\nAfter paddling we watch the sunset on Gull Lake while sharing some snacks. Bring your favorite beverage and a snack to share.<br />\n<br />\n<span style="font-size:18px\;"><strong>LOCATION</strong></span><br />\n<u><strong><a href="https://goo.gl/maps/fjv4DLuFomB2" target="_blank">View map and route directions from your location</a></strong></u></span></span>
LOCATION:
UID:e.9367.388
SEQUENCE:3
DTSTAMP:20260422T112149Z
URL:https://www.paddlepushers.com/events/details/skills-night-forward-strokes-388
END:VEVENT

END:VCALENDAR
