BEGIN:VCALENDAR
VERSION:2.0
PRODID:-//ChamberMaster//Event Calendar 2.0//EN
METHOD:PUBLISH
X-PUBLISHED-TTL:P3D
REFRESH-INTERVAL:P3D
CALSCALE:GREGORIAN
BEGIN:VEVENT
DTSTART;VALUE=DATE:20230615
DTEND;VALUE=DATE:20230619
TRANSP:TRANSPARENT
X-MICROSOFT-CDO-ALLDAYEVENT:TRUE
SUMMARY:St. Croix State Park
DESCRIPTION:Location\n\nView map and route directions from your location\n\n\n\nCost\n\n$35 per person\n\n(plus your cost for a state park vehicle sticker)\n\n\n\nSite Details\n\nThe club has 4 sites reserved (46\, 48\, 51\, 53) at the Riverview campground. There is a limit of 6 members per site. If trailers are onsite then parking rules will only allow 1 car. Other cars will have to park in an overflow lot which is not far away. Each site could have one trailer up to 30' for a total of 4 trailers on this trip. These are non-electric sites. The trip will be limited to 24 members. If the trip is filled\, you may still come if you arrange for you own site.  \n\n\n\nSt. Croix State Park\n\nThe park offers kayaking on the St. Croix River with islands right near the launch site. There is also a shuttle service that can be arranged at the park for a fee. The park also offers lots of options for hiking and biking. A State Park sticker is required for your vehicle.
X-ALT-DESC;FMTTYPE=text/html:<span style="font-family:arial\;"><span style="font-size:14px\;"><strong><span style="color: rgb(68\, 68\, 68)\; font-weight: 700\;"><span style="font-size:18px\;">Location</span></span><br />\n<a href="https://goo.gl/maps/gfG4vqxrAV4fkC3A8" style="color: rgb(34\, 72\, 132)\; font: inherit\; letter-spacing: inherit\; text-align: inherit\; text-indent: inherit\; text-transform: inherit\; white-space: inherit\; word-spacing: inherit\; background: none\; box-sizing: content-box\; text-decoration-line: none\; bottom: auto\; clear: none\; content: normal\; direction: inherit\; display: inline\; empty-cells: show\; float: none\; left: auto\; margin: 0px\; max-height: none\; max-width: none\; min-height: initial\; min-width: initial\; opacity: 1\; outline-offset: 0px\; overflow: visible\; padding: 0px\; position: static\; resize: none\; right: auto\; table-layout: auto\; text-overflow: clip\; top: auto\; vertical-align: baseline\; visibility: inherit\; word-break: inherit\; overflow-wrap: break-word\; z-index: auto\; border: none\; border-collapse: separate\; border-radius: 0px\; height: auto\; width: auto\; box-shadow: none\;" target="_blank"><span style="color:#000080\;">View map and route directions from your location</span></a></strong><br />\n<br />\n<span style="font-size:18px\;"><strong>Cost</strong></span><br />\n$35 per person<br />\n(plus your cost for a state park vehicle sticker)<br />\n<br />\n<b><span style="font-size:18px\;">Site Details</span></b><br />\n<span style="background-color: rgba(0\, 0\, 0\, 0)\;">The club has 4 sites reserved (46\, 48\, 51\, 53) at the Riverview campground. There is a limit of 6 members per site. If trailers are onsite then parking rules will only allow 1 car. Other cars will have to park in an overflow lot which is not far away. Each site could have one trailer up to 30&#39\; for a total of 4 trailers on this trip. These are non-electric sites. The trip will be limited to 24 members. If the trip is filled\, you may still come if you arrange for you own site.&nbsp\;&nbsp\;</span></span></span><br />\n<br />\n<span style="font-family:arial\;"><span style="font-size:14px\;"><span style="font-size:18px\;"><strong><span style="color: rgb(68\, 68\, 68)\;">St. Croix State Park</span></strong></span><br />\n<font color="#444444">The park offers kayaking on the St. Croix River with islands right near the launch site. There is also a shuttle service that can be arranged at the park for a fee. The park also offers lots of options for hiking and biking. A State Park sticker is required for your vehicle.</font></span></span><br style="box-sizing: content-box\; bottom: auto\; clear: none\; color: rgb(68\, 68\, 68)\; content: normal\; direction: inherit\; display: inline\; empty-cells: show\; float: none\; font-variant-numeric: inherit\; font-variant-east-asian: inherit\; font-stretch: inherit\; font-size: 14px\; font-family: Arial\, Helvetica\, sans-serif\; left: auto\; line-height: inherit\; margin: 0px\; max-height: none\; max-width: none\; min-height: initial\; min-width: initial\; opacity: 1\; outline-offset: 0px\; overflow: visible\; padding: 0px\; position: static\; resize: none\; right: auto\; table-layout: auto\; text-overflow: clip\; top: auto\; vertical-align: baseline\; visibility: inherit\; word-break: inherit\; overflow-wrap: inherit\; z-index: auto\; background-image: none\; background-position: initial\; background-size: initial\; background-repeat: initial\; background-attachment: initial\; background-origin: initial\; background-clip: initial\; border: none\; border-collapse: separate\; border-radius: 0px\; height: auto\; width: auto\;" />\n<br style="box-sizing: content-box\; bottom: auto\; clear: none\; color: rgb(68\, 68\, 68)\; content: normal\; direction: inherit\; display: inline\; empty-cells: show\; float: none\; font-variant-numeric: inherit\; font-variant-east-asian: inherit\; font-stretch: inherit\; font-size: 14px\; font-family: Arial\, Helvetica\, sans-serif\; left: auto\; line-height: inherit\; margin: 0px\; max-height: none\; max-width: none\; min-height: initial\; min-width: initial\; opacity: 1\; outline-offset: 0px\; overflow: visible\; padding: 0px\; position: static\; resize: none\; right: auto\; table-layout: auto\; text-overflow: clip\; top: auto\; vertical-align: baseline\; visibility: inherit\; word-break: inherit\; overflow-wrap: inherit\; z-index: auto\; background-image: none\; background-position: initial\; background-size: initial\; background-repeat: initial\; background-attachment: initial\; background-origin: initial\; background-clip: initial\; border: none\; border-collapse: separate\; border-radius: 0px\; height: auto\; width: auto\;" />\n&nbsp\;
LOCATION:
UID:e.9367.318
SEQUENCE:3
DTSTAMP:20260423T041028Z
URL:https://www.paddlepushers.com/events/details/st-croix-state-park-318
END:VEVENT

END:VCALENDAR
