BEGIN:VCALENDAR
VERSION:2.0
PRODID:-//ChamberMaster//Event Calendar 2.0//EN
METHOD:PUBLISH
X-PUBLISHED-TTL:P3D
REFRESH-INTERVAL:P3D
CALSCALE:GREGORIAN
BEGIN:VEVENT
DTSTART;VALUE=DATE:20260910
DTEND;VALUE=DATE:20260914
TRANSP:TRANSPARENT
X-MICROSOFT-CDO-ALLDAYEVENT:TRUE
SUMMARY:The Traditional Paddlers Gathering
DESCRIPTION:THE TRADITIONAL PADDLERS GATHERING \n\n\n\nPaddlers of all skill levels and experience are encouraged and welcome to attend.  This is Minnesota's first "traditional" paddling event\, and although we don't disallow the use of euro blades\, we encourage you to try your hand with a traditional paddle. Many a person has been brought over to the "dark side" at this event! This is an excellent place to increase your paddling skills in all areas.... strokes\, rolling\, background knowledge\, and specialized skills specific to "traditional" paddling. It's also the only kayak symposium in the Brainerd lakes area.  Many of your Paddle Pusher buddies are a large part of the organization and mentorship at this event\, and it also features mentors well known world wide.\n\n\n\nIt's also a LOT of fun.\n\n\n\nPlease visit https://qajaqmn.org/ for more information and to register.
X-ALT-DESC;FMTTYPE=text/html:<p><br />\n<span style="font-size:18px"><strong>THE TRADITIONAL PADDLERS GATHERING&nbsp\;</strong></span><br />\n<br />\nPaddlers of all skill levels and experience are encouraged and welcome to attend. &nbsp\;This is Minnesota&#39\;s first &quot\;traditional&quot\; paddling event\, and although we don&#39\;t disallow the use of euro blades\, we encourage you to try your hand with a traditional paddle. Many a person has been brought over to the &quot\;dark side&quot\; at this event! This is an excellent place to increase your paddling skills in all areas.... strokes\, rolling\, background knowledge\, and specialized skills specific to &quot\;traditional&quot\; paddling. It&#39\;s also the only kayak symposium in the Brainerd lakes area. &nbsp\;Many of your Paddle Pusher buddies are a large part of the organization and mentorship at this event\, and it also features mentors well known world wide.<br />\n<br />\nIt&#39\;s also a LOT of fun.<br />\n<br />\nPlease visit<span style="font-size:20px"> <span style="font-size:14px\;"><a href="https://qajaqmn.org/">https://qajaqmn.org/</a></span></span>&nbsp\;for more information and to register.</p>\n
LOCATION:Merrifield Minnesota Parker Scout Reservation
UID:e.9367.439
SEQUENCE:3
DTSTAMP:20260419T202750Z
URL:https://www.paddlepushers.com/events/details/the-traditional-paddlers-gathering-439
END:VEVENT

END:VCALENDAR
