BEGIN:VCALENDAR
VERSION:2.0
PRODID:-//ChamberMaster//Event Calendar 2.0//EN
METHOD:PUBLISH
X-PUBLISHED-TTL:P3D
REFRESH-INTERVAL:P3D
CALSCALE:GREGORIAN
BEGIN:VEVENT
DTSTART:20220719T230000Z
DTEND:20220720T020000Z
X-MICROSOFT-CDO-ALLDAYEVENT:FALSE
SUMMARY:White Sand Lake
DESCRIPTION:Weekly Tuesday Paddle\n\nThis weeks paddle will be hosted at Michelle's house. We will launch from her beach.\n\n\n\nThis weeks Tuesday paddle will be a little different. Not everyone gets a chance to make our Wednesday skills night so before our club trips for the summer hit full swing we wanted to have an opportunity to practice some basic skills\, like wet exit and rescues. This is your opportunity to brush up on the basic skills we all need to know.\n\n\n\nIf you plan on paddling on any club trips please plan to attend this session because we need to ensure you still know the basic skills required for everyone's safety.\n\n\n\nLOCATION\n\nView map and route directions from your location
X-ALT-DESC;FMTTYPE=text/html:<span style="font-family: arial\; color: rgb(68\, 68\, 68)\;"><span style="font-size: 18px\;"><strong>Weekly Tuesday Paddle</strong></span></span><br style="font-family: arial\;" />\n<span style="font-family: arial\; color: rgb(178\, 34\, 34)\;"><span style="font-size: 14px\;"><strong>This weeks paddle will be hosted at Michelle&#39\;s house</strong></span></span><span style="font-family: arial\; color: rgb(68\, 68\, 68)\; font-size: 14px\;">. We will launch from her beach.<br />\n<br />\nThis weeks Tuesday paddle will be a little different. Not everyone gets a chance to make our Wednesday skills night so before our club trips for the summer hit full swing we wanted to have an opportunity to practice some basic skills\, like wet exit and rescues. This is your opportunity to brush up on the basic skills we all need to know.</span><br style="font-family: arial\;" />\n<br style="font-family: arial\;" />\n<strong style="font-family: arial\;"><span style="color: rgb(178\, 34\, 34)\;"><span style="font-size: 14px\;">If you plan on paddling on any club trips please plan to attend this session because we need to ensure you still know the basic skills required for everyone&#39\;s safety.</span></span></strong><br style="font-family: arial\;" />\n<br style="font-family: arial\;" />\n<span style="font-family: arial\; box-sizing: content-box\; inset: auto\; clear: none\; color: rgb(68\, 68\, 68)\; content: normal\; direction: inherit\; empty-cells: show\; font-variant-numeric: inherit\; font-variant-east-asian: inherit\; font-stretch: inherit\; line-height: inherit\; margin: 0px\; max-height: none\; max-width: none\; opacity: 1\; outline-offset: 0px\; overflow: visible\; padding: 0px\; position: static\; resize: none\; table-layout: auto\; text-overflow: clip\; vertical-align: baseline\; visibility: inherit\; word-break: inherit\; overflow-wrap: inherit\; z-index: auto\; background-image: none\; border: none\; border-collapse: separate\; border-radius: 0px\; height: auto\; width: auto\; box-shadow: none\;"><span style="font-size: 18px\;">LOCATION</span><br style="box-sizing: content-box\; inset: auto\; clear: none\; content: normal\; direction: inherit\; display: inline\; empty-cells: show\; float: none\; font-family: inherit\; font-size: inherit\; font-style: inherit\; font-variant-caps: inherit\; font-stretch: inherit\; line-height: inherit\; letter-spacing: inherit\; margin: 0px\; max-height: none\; max-width: none\; opacity: 1\; outline-offset: 0px\; overflow: visible\; padding: 0px\; position: static\; resize: none\; table-layout: auto\; text-align: inherit\; text-indent: inherit\; text-overflow: clip\; text-transform: inherit\; vertical-align: baseline\; visibility: inherit\; white-space: inherit\; word-break: inherit\; word-spacing: inherit\; overflow-wrap: inherit\; z-index: auto\; background-image: none\; border: none\; border-collapse: separate\; border-radius: 0px\; height: auto\; width: auto\;" />\n<span style="font-size: 14px\;"><u><strong><a href="https://goo.gl/maps/rCPTWg1S5bftiJ6R6" style="color: rgb(34\, 72\, 132)\; box-sizing: content-box\; background-image: none\; text-decoration-line: none\; inset: auto\; clear: none\; content: normal\; direction: inherit\; display: inline\; empty-cells: show\; float: none\; font-family: inherit\; font-size: inherit\; font-style: inherit\; font-variant-caps: inherit\; font-weight: inherit\; font-stretch: inherit\; line-height: inherit\; letter-spacing: inherit\; margin: 0px\; max-height: none\; max-width: none\; opacity: 1\; outline-offset: 0px\; overflow: visible\; padding: 0px\; position: static\; resize: none\; table-layout: auto\; text-align: inherit\; text-indent: inherit\; text-overflow: clip\; text-transform: inherit\; vertical-align: baseline\; visibility: inherit\; white-space: inherit\; word-break: inherit\; word-spacing: inherit\; overflow-wrap: break-word\; z-index: auto\; border: none\; border-collapse: separate\; border-radius: 0px\; height: auto\; width: auto\; box-shadow: none\;" target="_blank">View map and route directions from your location</a></strong></u></span></span>
LOCATION:
UID:e.9367.279
SEQUENCE:3
DTSTAMP:20260423T212640Z
URL:https://www.paddlepushers.com/events/details/white-sand-lake-279
END:VEVENT

END:VCALENDAR
