BEGIN:VCALENDAR
VERSION:2.0
PRODID:-//ChamberMaster//Event Calendar 2.0//EN
METHOD:PUBLISH
X-PUBLISHED-TTL:P3D
REFRESH-INTERVAL:P3D
CALSCALE:GREGORIAN
BEGIN:VEVENT
DTSTART:20250708T230000Z
DTEND:20250709T020000Z
X-MICROSOFT-CDO-ALLDAYEVENT:FALSE
SUMMARY:White Sand Lake - Hosted at Michelle's
DESCRIPTION:Weekly Tuesday Paddle\n\nThis weeks paddle will be hosted at the Michelle's house. We will launch from her beach.\n\n\n\nThis will be our annual skills session. Not everyone gets a chance to practice basic skills like wet exits and rescues so this is a chance to demonstrate your skills.\n\n\n\nThere will be a potluck afterwards. Bring a bite to share and your favorite beverage.\n\n\n\nLOCATION\n\nView map and route directions from your location
X-ALT-DESC;FMTTYPE=text/html:<span style="font-family: arial\; color: rgb(68\, 68\, 68)\;"><span style="font-size: 18px\;"><strong>Weekly Tuesday Paddle</strong></span></span><br style="font-family: arial\;" />\n<span style="font-family: arial\;"><span style="font-size: 14px\;">This weeks paddle will be hosted at the Michelle&#39\;s house</span></span><span style="font-family: arial\; font-size: 14px\;">. </span><span style="font-family: arial\; color: rgb(68\, 68\, 68)\; font-size: 14px\;">We will launch from her beach.<br />\n<br />\nThis will be our annual skills session. Not everyone gets a chance to practice basic skills like wet exits and rescues so this is a chance to demonstrate your skills.</span><br />\n<br style="font-family: arial\;" />\n<span style="font-size:14px\;"><span style="font-family:arial\;">There will be a potluck afterwards.&nbsp\;<span style="color: rgb(51\, 62\, 39)\;">Bring a bite to share and your favorite beverage.</span></span></span><br />\n<br style="font-family: arial\;" />\n<span style="font-family: arial\; box-sizing: content-box\; inset: auto\; clear: none\; color: rgb(68\, 68\, 68)\; content: normal\; direction: inherit\; empty-cells: show\; font-variant-numeric: inherit\; font-variant-east-asian: inherit\; font-stretch: inherit\; line-height: inherit\; margin: 0px\; max-height: none\; max-width: none\; opacity: 1\; outline-offset: 0px\; overflow: visible\; padding: 0px\; position: static\; resize: none\; table-layout: auto\; text-overflow: clip\; vertical-align: baseline\; visibility: inherit\; word-break: inherit\; overflow-wrap: inherit\; z-index: auto\; background-image: none\; border: none\; border-collapse: separate\; border-radius: 0px\; height: auto\; width: auto\; box-shadow: none\;"><strong><span style="font-size: 18px\;">LOCATION</span></strong><br style="box-sizing: content-box\; inset: auto\; clear: none\; content: normal\; direction: inherit\; display: inline\; empty-cells: show\; float: none\; font-family: inherit\; font-size: inherit\; font-style: inherit\; font-variant-caps: inherit\; font-stretch: inherit\; line-height: inherit\; letter-spacing: inherit\; margin: 0px\; max-height: none\; max-width: none\; opacity: 1\; outline-offset: 0px\; overflow: visible\; padding: 0px\; position: static\; resize: none\; table-layout: auto\; text-align: inherit\; text-indent: inherit\; text-overflow: clip\; text-transform: inherit\; vertical-align: baseline\; visibility: inherit\; white-space: inherit\; word-break: inherit\; word-spacing: inherit\; overflow-wrap: inherit\; z-index: auto\; background-image: none\; border: none\; border-collapse: separate\; border-radius: 0px\; height: auto\; width: auto\;" />\n<span style="font-size: 14px\;"><u><strong><a href="https://goo.gl/maps/rCPTWg1S5bftiJ6R6" style="color: rgb(34\, 72\, 132)\; box-sizing: content-box\; background-image: none\; text-decoration-line: none\; inset: auto\; clear: none\; content: normal\; direction: inherit\; display: inline\; empty-cells: show\; float: none\; font-family: inherit\; font-size: inherit\; font-style: inherit\; font-variant-caps: inherit\; font-weight: inherit\; font-stretch: inherit\; line-height: inherit\; letter-spacing: inherit\; margin: 0px\; max-height: none\; max-width: none\; opacity: 1\; outline-offset: 0px\; overflow: visible\; padding: 0px\; position: static\; resize: none\; table-layout: auto\; text-align: inherit\; text-indent: inherit\; text-overflow: clip\; text-transform: inherit\; vertical-align: baseline\; visibility: inherit\; white-space: inherit\; word-break: inherit\; word-spacing: inherit\; overflow-wrap: break-word\; z-index: auto\; border: none\; border-collapse: separate\; border-radius: 0px\; height: auto\; width: auto\; box-shadow: none\;" target="_blank">View map and route directions from your location</a></strong></u></span></span>
LOCATION:
UID:e.9367.402
SEQUENCE:3
DTSTAMP:20260419T165601Z
URL:https://www.paddlepushers.com/events/details/white-sand-lake-hosted-at-michelle-s-402
END:VEVENT

END:VCALENDAR
