BEGIN:VCALENDAR
VERSION:2.0
PRODID:-//ChamberMaster//Event Calendar 2.0//EN
METHOD:PUBLISH
X-PUBLISHED-TTL:P3D
REFRESH-INTERVAL:P3D
CALSCALE:GREGORIAN
BEGIN:VEVENT
DTSTART:20250624T230000Z
DTEND:20250625T020000Z
X-MICROSOFT-CDO-ALLDAYEVENT:FALSE
SUMMARY:Whitefish - Big Island
DESCRIPTION:Weekly Tuesday Paddle\n\nWe will launch at Lower Hay and paddle out to the Big Island on Whitefish. On the island we will have snacks so bring your favorite beverage and a snack to share.\n\n\n\nLOCATION \n\nView map and route directions from your location
X-ALT-DESC;FMTTYPE=text/html:<br />\n<span style="font-size:18px\;"><span style="font-family:arial\;"><strong>Weekly Tuesday Paddle</strong></span></span><br />\n<span style="font-size:14px\;"><span style="font-family:arial\;">We will launch at Lower Hay and paddle out to the Big Island on Whitefish. On the island we will have snacks so bring your favorite beverage and a snack to share.</span></span><br />\n<br />\n<strong><span style="font-size:18px\;"><span style="font-family:arial\;">LOCATION&nbsp\;</span></span></strong><br />\n<u><span style="font-size:14px\;"><span style="font-family:arial\;"><strong><a href="https://goo.gl/maps/vQmqvEgaswQRdcA36" target="_blank">View map and route directions from your location</a></strong></span></span></u>
LOCATION:
UID:e.9367.400
SEQUENCE:3
DTSTAMP:20260419T182519Z
URL:https://www.paddlepushers.com/events/details/whitefish-big-island-400
END:VEVENT

END:VCALENDAR
